BEGIN:VCALENDAR
VERSION:2.0
PRODID:-//Microsoft Corporation//Outlook 16.0 MIMEDIR//FR
CALSCALE:GREGORIAN
METHOD:PUBLISH
X-WR-TIMEZONE:Europe/Monaco
X-MS-OLK-FORCEINSPECTOROPEN:"TRUE"
BEGIN:VTIMEZONE
TZID:Europe/Monaco
BEGIN:STANDARD
DTSTART:20211031T010000
TZOFFSETTO:+0100
TZOFFSETFROM:+0200
RRULE:FREQ=YEARLY;BYMONTH=11;BYDAY=1SU
END:STANDARD
BEGIN:DAYLIGHT
DTSTART:20210328T010000
TZOFFSETTO:+0200
TZOFFSETFROM:+0100
RRULE:FREQ=YEARLY;BYMONTH=3;BYDAY=2SU
END:DAYLIGHT
END:VTIMEZONE
BEGIN:VEVENT
UID:989-ecfb05b3643a72325bc58e116a7399e2-principocket.com\n
DTSTART:20210926T000000
DTEND:20210927T235900
TRANSP:TRANSPARENT
IMAGE;VALUE=URI;DISPLAY=;FMTTYPE=image/png:https://app.monacoplatform.
 com/uploads/1z/1zDuGWaWiu.jpg
STATUS:CONFIRMED
SUMMARY:Giornate europee del Patrimonio
DESCRIPTION:Domenica 26 settembre 2021\, Principato di Monaco\n\n26° 
 Giornate europee del Patrimonio\n\n https://www.principocket.com/it/ev
 ent/ecfb05b3643a72325bc58e116a7399e2/giornate-europee-del-patrimonio
LOCATION:Monaco
URL:https://www.principocket.com/event/ecfb05b3643a72325bc58e116a7399e2/989
DTSTAMP:20260420T122813Z
CREATED:20210917T070402Z
LAST-MODIFIED:20210917T070402Z
X-MICROSOFT-CDO-ALLDAYEVENT:TRUE
END:VEVENT
END:VCALENDAR
