BEGIN:VCALENDAR
VERSION:2.0
PRODID:-//Microsoft Corporation//Outlook 16.0 MIMEDIR//FR
CALSCALE:GREGORIAN
METHOD:PUBLISH
X-WR-TIMEZONE:Europe/Monaco
X-MS-OLK-FORCEINSPECTOROPEN:"TRUE"
BEGIN:VTIMEZONE
TZID:Europe/Monaco
BEGIN:STANDARD
DTSTART:20211031T010000
TZOFFSETTO:+0100
TZOFFSETFROM:+0200
RRULE:FREQ=YEARLY;BYMONTH=11;BYDAY=1SU
END:STANDARD
BEGIN:DAYLIGHT
DTSTART:20210328T010000
TZOFFSETTO:+0200
TZOFFSETFROM:+0100
RRULE:FREQ=YEARLY;BYMONTH=3;BYDAY=2SU
END:DAYLIGHT
END:VTIMEZONE
BEGIN:VEVENT
UID:917-1956e41ae11c1a03de50a0d6caf44778-principocket.com\n
DTSTART:20210626T000000
DTEND:20210628T235900
TRANSP:TRANSPARENT
IMAGE;VALUE=URI;DISPLAY=;FMTTYPE=image/png:https://app.monacoplatform.
 com/uploads/a7/a7W5A1gw1-.jpg
STATUS:CONFIRMED
SUMMARY:Académie Princesse Grace
DESCRIPTION:Sabato 26 giugno alle 19 e domenica 27 giugno 2021 alle 16
 \, Grimaldi Forum Monaco - Salle Prince Pierre\n\nGala dell'Académie 
 Princesse Grace\n\n https://www.principocket.com/it/event/1956e41ae11c
 1a03de50a0d6caf44778/academie-princesse-grace
LOCATION:10\, avenue Princesse Grace
URL:https://www.principocket.com/event/1956e41ae11c1a03de50a0d6caf44778/917
DTSTAMP:20260420T140340Z
CREATED:20210618T122957Z
LAST-MODIFIED:20210618T122957Z
X-MICROSOFT-CDO-ALLDAYEVENT:TRUE
END:VEVENT
END:VCALENDAR
