BEGIN:VCALENDAR
VERSION:2.0
PRODID:-//Microsoft Corporation//Outlook 16.0 MIMEDIR//FR
CALSCALE:GREGORIAN
METHOD:PUBLISH
X-WR-TIMEZONE:Europe/Monaco
X-MS-OLK-FORCEINSPECTOROPEN:"TRUE"
BEGIN:VTIMEZONE
TZID:Europe/Monaco
BEGIN:STANDARD
DTSTART:20211031T010000
TZOFFSETTO:+0100
TZOFFSETFROM:+0200
RRULE:FREQ=YEARLY;BYMONTH=11;BYDAY=1SU
END:STANDARD
BEGIN:DAYLIGHT
DTSTART:20210328T010000
TZOFFSETTO:+0200
TZOFFSETFROM:+0100
RRULE:FREQ=YEARLY;BYMONTH=3;BYDAY=2SU
END:DAYLIGHT
END:VTIMEZONE
BEGIN:VEVENT
UID:916-4ffee2405ee42b5488aff7321d0e1331-principocket.com\n
DTSTART:20210624T000000
DTEND:20210717T235900
TRANSP:TRANSPARENT
IMAGE;VALUE=URI;DISPLAY=;FMTTYPE=image/png:https://app.monacoplatform.
 com/uploads/IN/IN6UtZ7a5A.jpg
STATUS:CONFIRMED
SUMMARY:Intervista al Femminile
DESCRIPTION:Da giovedì 24 giugno a venerdì 16 luglio 2021\, Maison d
 e France\n\nMostra a tema su "Intervista al femminile" di Calypso de S
 igaldi\, Elizabeth Wessel\, Karla\, Sutra e Véga Vénusie\n\n https:/
 /www.principocket.com/it/event/4ffee2405ee42b5488aff7321d0e1331/interv
 ista-al-femminile
LOCATION:42\, rue Grimaldi
URL:https://www.principocket.com/event/4ffee2405ee42b5488aff7321d0e1331/916
DTSTAMP:20260422T104415Z
CREATED:20210618T122957Z
LAST-MODIFIED:20210618T122957Z
X-MICROSOFT-CDO-ALLDAYEVENT:TRUE
END:VEVENT
END:VCALENDAR
