BEGIN:VCALENDAR
VERSION:2.0
PRODID:-//Microsoft Corporation//Outlook 16.0 MIMEDIR//FR
CALSCALE:GREGORIAN
METHOD:PUBLISH
X-WR-TIMEZONE:Europe/Monaco
X-MS-OLK-FORCEINSPECTOROPEN:"TRUE"
BEGIN:VTIMEZONE
TZID:Europe/Monaco
BEGIN:STANDARD
DTSTART:20211031T010000
TZOFFSETTO:+0100
TZOFFSETFROM:+0200
RRULE:FREQ=YEARLY;BYMONTH=11;BYDAY=1SU
END:STANDARD
BEGIN:DAYLIGHT
DTSTART:20210328T010000
TZOFFSETTO:+0200
TZOFFSETFROM:+0100
RRULE:FREQ=YEARLY;BYMONTH=3;BYDAY=2SU
END:DAYLIGHT
END:VTIMEZONE
BEGIN:VEVENT
UID:912-cd0c3c0166da70faac2ccb3d8600051c-principocket.com\n
DTSTART:20210619T200000
DTEND:20210619T200000
TRANSP:TRANSPARENT
IMAGE;VALUE=URI;DISPLAY=;FMTTYPE=image/png:https://app.monacoplatform.
 com/uploads/w5/w50x3ZBulk.jpg
STATUS:CONFIRMED
SUMMARY:Natasha St-Pier
DESCRIPTION:Sabato 19 giugno 2021 alle 20\, Auditorium Rainier III\n\n
 Il Servizio alla Cultura della Diocesi di Monaco presenta il concerto 
 di Natacha St-Pier\, che si svolgerà sabato 19 giugno 2021 alle 20 al
 l’Auditorium Rainier III.\n\n https://www.principocket.com/it/event/
 cd0c3c0166da70faac2ccb3d8600051c/natasha-st-pier
LOCATION:Boulevard Louis II
URL:https://www.principocket.com/event/cd0c3c0166da70faac2ccb3d8600051c/912
DTSTAMP:20260422T222158Z
CREATED:20210618T122957Z
LAST-MODIFIED:20210618T122957Z
END:VEVENT
END:VCALENDAR
