BEGIN:VCALENDAR
VERSION:2.0
PRODID:-//Microsoft Corporation//Outlook 16.0 MIMEDIR//FR
CALSCALE:GREGORIAN
METHOD:PUBLISH
X-WR-TIMEZONE:Europe/Monaco
X-MS-OLK-FORCEINSPECTOROPEN:"TRUE"
BEGIN:VTIMEZONE
TZID:Europe/Monaco
BEGIN:STANDARD
DTSTART:20211031T010000
TZOFFSETTO:+0100
TZOFFSETFROM:+0200
RRULE:FREQ=YEARLY;BYMONTH=11;BYDAY=1SU
END:STANDARD
BEGIN:DAYLIGHT
DTSTART:20210328T010000
TZOFFSETTO:+0200
TZOFFSETFROM:+0100
RRULE:FREQ=YEARLY;BYMONTH=3;BYDAY=2SU
END:DAYLIGHT
END:VTIMEZONE
BEGIN:VEVENT
UID:792-db6ca8d80bf325c16981129c78ccbc69-principocket.com\n
DTSTART:20210722T213000
DTEND:20210722T213000
TRANSP:TRANSPARENT
IMAGE;VALUE=URI;DISPLAY=;FMTTYPE=image/png:https://app.monacoplatform.
 com/uploads/-7/-7w53PKfsv.jpg
STATUS:CONFIRMED
SUMMARY:Orchestra Filarmonica di Monte-Carlo
DESCRIPTION:Giovedì 22 luglio 2021 alle 21.30\, Palazzo dei Principi 
 - Corte d'Onore\n\nConcerto sinfonico dell'Orchestra Filarmonica di Mo
 nte-Carlo diretta da Tomas Netopil con Katia e Marielle Labèque\, pia
 noforte. In programma: Maurice Ravel e Françis Poulenc\n\n https://ww
 w.principocket.com/it/event/db6ca8d80bf325c16981129c78ccbc69/orchestra
 -filarmonica-di-monte-carlo
LOCATION:98015 Monaco
URL:https://www.principocket.com/event/db6ca8d80bf325c16981129c78ccbc69/792
DTSTAMP:20260423T045409Z
CREATED:20210719T071546Z
LAST-MODIFIED:20210719T071546Z
END:VEVENT
END:VCALENDAR
