BEGIN:VCALENDAR
VERSION:2.0
PRODID:-//Microsoft Corporation//Outlook 16.0 MIMEDIR//FR
CALSCALE:GREGORIAN
METHOD:PUBLISH
X-WR-TIMEZONE:Europe/Monaco
X-MS-OLK-FORCEINSPECTOROPEN:"TRUE"
BEGIN:VTIMEZONE
TZID:Europe/Monaco
BEGIN:STANDARD
DTSTART:20211031T010000
TZOFFSETTO:+0100
TZOFFSETFROM:+0200
RRULE:FREQ=YEARLY;BYMONTH=11;BYDAY=1SU
END:STANDARD
BEGIN:DAYLIGHT
DTSTART:20210328T010000
TZOFFSETTO:+0200
TZOFFSETFROM:+0100
RRULE:FREQ=YEARLY;BYMONTH=3;BYDAY=2SU
END:DAYLIGHT
END:VTIMEZONE
BEGIN:VEVENT
UID:791-c71e4fc0b956c7ee3cce5369afa08a7f-principocket.com\n
DTSTART:20210718T213000
DTEND:20210718T213000
TRANSP:TRANSPARENT
IMAGE;VALUE=URI;DISPLAY=;FMTTYPE=image/png:https://app.monacoplatform.
 com/uploads/Z-/Z-m3SW18oY.jpg
STATUS:CONFIRMED
SUMMARY:Orchestra Filarmonica di Monte-Carlo
DESCRIPTION:Domenica 18 luglio 2021 alle 21.30\, Palazzo dei Principi 
 - Corte d'Onore\n\nConcerto sinfonico dell'Orchestra Filarmonica di Mo
 nte-Carlo diretta da Gianluigi Gelmetti con il Coro del Teatro Regio d
 i Parma\, Chen Reiss\, soprano\, Marianna Pizzolato\, mezzo-soprano\, 
 Paolo Fanale\, tenore e Nahuel di Pierro\, basso. In programma: Wolfga
 ng Amadeus Mozart\n\n https://www.principocket.com/it/event/c71e4fc0b9
 56c7ee3cce5369afa08a7f/orchestra-filarmonica-di-monte-carlo
LOCATION:98015 Monaco
URL:https://www.principocket.com/event/c71e4fc0b956c7ee3cce5369afa08a7f/791
DTSTAMP:20260423T031020Z
CREATED:20210618T122957Z
LAST-MODIFIED:20210618T122957Z
END:VEVENT
END:VCALENDAR
