BEGIN:VCALENDAR
VERSION:2.0
PRODID:-//Microsoft Corporation//Outlook 16.0 MIMEDIR//FR
CALSCALE:GREGORIAN
METHOD:PUBLISH
X-WR-TIMEZONE:Europe/Monaco
X-MS-OLK-FORCEINSPECTOROPEN:"TRUE"
BEGIN:VTIMEZONE
TZID:Europe/Monaco
BEGIN:STANDARD
DTSTART:20211031T010000
TZOFFSETTO:+0100
TZOFFSETFROM:+0200
RRULE:FREQ=YEARLY;BYMONTH=11;BYDAY=1SU
END:STANDARD
BEGIN:DAYLIGHT
DTSTART:20210328T010000
TZOFFSETTO:+0200
TZOFFSETFROM:+0100
RRULE:FREQ=YEARLY;BYMONTH=3;BYDAY=2SU
END:DAYLIGHT
END:VTIMEZONE
BEGIN:VEVENT
UID:790-96eed523a6940fee87f5a35226686e67-principocket.com\n
DTSTART:20210715T213000
DTEND:20210715T213000
TRANSP:TRANSPARENT
IMAGE;VALUE=URI;DISPLAY=;FMTTYPE=image/png:https://app.monacoplatform.
 com/uploads/tm/tmA3ExR5pc.jpg
STATUS:CONFIRMED
SUMMARY:Orchestra Filarmonica di Monte-Carlo
DESCRIPTION:Giovedì 15 luglio 2021 alle 21.30\, Palazzo dei Principi 
 - Corte d'Onore\n\nConcerto sinfonico dell'Orchestra Filarmonica di Mo
 nte-Carlo diretta da Valery Gergiev. In programma: Claude Debussy e Ig
 or Stravinsky\n\n https://www.principocket.com/it/event/96eed523a6940f
 ee87f5a35226686e67/orchestra-filarmonica-di-monte-carlo
LOCATION:98015 Monaco
URL:https://www.principocket.com/event/96eed523a6940fee87f5a35226686e67/790
DTSTAMP:20260423T012010Z
CREATED:20210618T122957Z
LAST-MODIFIED:20210618T122957Z
END:VEVENT
END:VCALENDAR
