BEGIN:VCALENDAR
VERSION:2.0
PRODID:-//Microsoft Corporation//Outlook 16.0 MIMEDIR//FR
CALSCALE:GREGORIAN
METHOD:PUBLISH
X-WR-TIMEZONE:Europe/Monaco
X-MS-OLK-FORCEINSPECTOROPEN:"TRUE"
BEGIN:VTIMEZONE
TZID:Europe/Monaco
BEGIN:STANDARD
DTSTART:20221030T010000
TZOFFSETTO:+0100
TZOFFSETFROM:+0200
RRULE:FREQ=YEARLY;BYMONTH=11;BYDAY=1SU
END:STANDARD
BEGIN:DAYLIGHT
DTSTART:20220327T010000
TZOFFSETTO:+0200
TZOFFSETFROM:+0100
RRULE:FREQ=YEARLY;BYMONTH=3;BYDAY=2SU
END:DAYLIGHT
END:VTIMEZONE
BEGIN:VEVENT
UID:788-9f5f2a8a77e76fba319eccfd0ed012b1-principocket.com\n
DTSTART:20220810T000000
DTEND:20220811T235900
TRANSP:TRANSPARENT
IMAGE;VALUE=URI;DISPLAY=;FMTTYPE=image/png:https://app.monacoplatform.
 com/uploads/1L/1L3uOE9jF-.jpg
STATUS:CONFIRMED
SUMMARY:Atletica leggera - Meeting International d'Athlétisme Herculis EBS
DESCRIPTION:Mercoledì 10 agosto 2022\, Stadio Louis II\n\nMeeting Int
 ernazionale di Atletica Leggera Herculis EBS\, Wanda Diamond League 20
 22\, organizzato dalla Federazione Monegasca di Atletica Leggera\n\n h
 ttps://www.principocket.com/it/event/9f5f2a8a77e76fba319eccfd0ed012b1/
 atletica-leggera-meeting-international-d-athletisme-herculis-ebs
LOCATION:7\, avenue des Castelans
URL:https://www.principocket.com/event/9f5f2a8a77e76fba319eccfd0ed012b1/788
DTSTAMP:20260422T220746Z
CREATED:20220726T074101Z
LAST-MODIFIED:20220726T074101Z
X-MICROSOFT-CDO-ALLDAYEVENT:TRUE
END:VEVENT
END:VCALENDAR
