BEGIN:VCALENDAR
VERSION:2.0
PRODID:-//Microsoft Corporation//Outlook 16.0 MIMEDIR//FR
CALSCALE:GREGORIAN
METHOD:PUBLISH
X-WR-TIMEZONE:Europe/Monaco
X-MS-OLK-FORCEINSPECTOROPEN:"TRUE"
BEGIN:VTIMEZONE
TZID:Europe/Monaco
BEGIN:STANDARD
DTSTART:20211031T010000
TZOFFSETTO:+0100
TZOFFSETFROM:+0200
RRULE:FREQ=YEARLY;BYMONTH=11;BYDAY=1SU
END:STANDARD
BEGIN:DAYLIGHT
DTSTART:20210328T010000
TZOFFSETTO:+0200
TZOFFSETFROM:+0100
RRULE:FREQ=YEARLY;BYMONTH=3;BYDAY=2SU
END:DAYLIGHT
END:VTIMEZONE
BEGIN:VEVENT
UID:787-dc26d8d680ad952b33b6ae4cd3cbcfdb-principocket.com\n
DTSTART:20210331T190000
DTEND:20210331T190000
TRANSP:TRANSPARENT
IMAGE;VALUE=URI;DISPLAY=;FMTTYPE=image/png:https://app.monacoplatform.
 com/uploads/Yo/YoZpDS85j6.jpg
STATUS:CONFIRMED
SUMMARY:E il piccolo schermo reinventò la donna
DESCRIPTION:Mercoledì 31 marzo 2021 alle 19\, Mediateca di Monaco - B
 iblioteca Louis Notari\n\nSerata speciale serie televisive\, presentat
 a da Xavier Leherpeur: "E il piccolo schermo reinventò la donna"\n\n 
 https://www.principocket.com/it/event/dc26d8d680ad952b33b6ae4cd3cbcfdb
 /e-il-piccolo-schermo-reinvento-la-donna
LOCATION:5 Promenade Honoré II\, Monaco
URL:https://www.principocket.com/event/dc26d8d680ad952b33b6ae4cd3cbcfdb/787
DTSTAMP:20260422T204058Z
CREATED:20210219T174118Z
LAST-MODIFIED:20210219T174118Z
END:VEVENT
END:VCALENDAR
