BEGIN:VCALENDAR
VERSION:2.0
PRODID:-//Microsoft Corporation//Outlook 16.0 MIMEDIR//FR
CALSCALE:GREGORIAN
METHOD:PUBLISH
X-WR-TIMEZONE:Europe/Monaco
X-MS-OLK-FORCEINSPECTOROPEN:"TRUE"
BEGIN:VTIMEZONE
TZID:Europe/Monaco
BEGIN:STANDARD
DTSTART:20211031T010000
TZOFFSETTO:+0100
TZOFFSETFROM:+0200
RRULE:FREQ=YEARLY;BYMONTH=11;BYDAY=1SU
END:STANDARD
BEGIN:DAYLIGHT
DTSTART:20210328T010000
TZOFFSETTO:+0200
TZOFFSETFROM:+0100
RRULE:FREQ=YEARLY;BYMONTH=3;BYDAY=2SU
END:DAYLIGHT
END:VTIMEZONE
BEGIN:VEVENT
UID:785-e8ef39df7c8d76062223d293be6e71da-principocket.com\n
DTSTART:20210326T190000
DTEND:20210326T190000
TRANSP:TRANSPARENT
IMAGE;VALUE=URI;DISPLAY=;FMTTYPE=image/png:https://app.monacoplatform.
 com/uploads/nJ/nJXQwdXFqS.jpg
STATUS:CONFIRMED
SUMMARY:Gontard
DESCRIPTION:Venerdì 26 marzo 2021 alle 19\, Mediateca di Monaco - Bib
 lioteca Louis Notari\n\nConcerto con Gontard (intrattenimento francese
 )\n\n https://www.principocket.com/it/event/e8ef39df7c8d76062223d293be
 6e71da/gontard
LOCATION:5 Promenade Honoré II\, Monaco
URL:https://www.principocket.com/event/e8ef39df7c8d76062223d293be6e71da/785
DTSTAMP:20260422T173306Z
CREATED:20210219T174118Z
LAST-MODIFIED:20210219T174118Z
END:VEVENT
END:VCALENDAR
