BEGIN:VCALENDAR
VERSION:2.0
PRODID:-//Microsoft Corporation//Outlook 16.0 MIMEDIR//FR
CALSCALE:GREGORIAN
METHOD:PUBLISH
X-WR-TIMEZONE:Europe/Monaco
X-MS-OLK-FORCEINSPECTOROPEN:"TRUE"
BEGIN:VTIMEZONE
TZID:Europe/Monaco
BEGIN:STANDARD
DTSTART:20211031T010000
TZOFFSETTO:+0100
TZOFFSETFROM:+0200
RRULE:FREQ=YEARLY;BYMONTH=11;BYDAY=1SU
END:STANDARD
BEGIN:DAYLIGHT
DTSTART:20210328T010000
TZOFFSETTO:+0200
TZOFFSETFROM:+0100
RRULE:FREQ=YEARLY;BYMONTH=3;BYDAY=2SU
END:DAYLIGHT
END:VTIMEZONE
BEGIN:VEVENT
UID:784-8e94ed43f58620e45fa7531c6d8f149e-principocket.com\n
DTSTART:20210322T183000
DTEND:20210322T183000
TRANSP:TRANSPARENT
IMAGE;VALUE=URI;DISPLAY=;FMTTYPE=image/png:https://app.monacoplatform.
 com/uploads/Ba/BaLF3QE937.jpg
STATUS:CONFIRMED
SUMMARY:Dedica autore
DESCRIPTION:Lunedì 22 marzo 2021 alle 18.30\, Mediateca di Monaco - B
 iblioteca Louis Notari\n\nIncontro con Carole Fives sul suo romanzo "T
 érébenthine"\n\n https://www.principocket.com/it/event/8e94ed43f5862
 0e45fa7531c6d8f149e/dedica-autore
LOCATION:5 Promenade Honoré II\, Monaco
URL:https://www.principocket.com/event/8e94ed43f58620e45fa7531c6d8f149e/784
DTSTAMP:20260422T155106Z
CREATED:20210219T174118Z
LAST-MODIFIED:20210219T174118Z
END:VEVENT
END:VCALENDAR
