BEGIN:VCALENDAR
VERSION:2.0
PRODID:-//Microsoft Corporation//Outlook 16.0 MIMEDIR//FR
CALSCALE:GREGORIAN
METHOD:PUBLISH
X-WR-TIMEZONE:Europe/Monaco
X-MS-OLK-FORCEINSPECTOROPEN:"TRUE"
BEGIN:VTIMEZONE
TZID:Europe/Monaco
BEGIN:STANDARD
DTSTART:20211031T010000
TZOFFSETTO:+0100
TZOFFSETFROM:+0200
RRULE:FREQ=YEARLY;BYMONTH=11;BYDAY=1SU
END:STANDARD
BEGIN:DAYLIGHT
DTSTART:20210328T010000
TZOFFSETTO:+0200
TZOFFSETFROM:+0100
RRULE:FREQ=YEARLY;BYMONTH=3;BYDAY=2SU
END:DAYLIGHT
END:VTIMEZONE
BEGIN:VEVENT
UID:781-0f09bd5380c836ee40fe74c10bee005d-principocket.com\n
DTSTART:20210311T150000
DTEND:20210311T150000
TRANSP:TRANSPARENT
IMAGE;VALUE=URI;DISPLAY=;FMTTYPE=image/png:https://app.monacoplatform.
 com/uploads/i_/i_-4vkwNgj.jpg
STATUS:CONFIRMED
SUMMARY:Conferenze
DESCRIPTION:Giovedì 11 marzo 2021\, alle 15h\, Médiathèque de Monac
 o - Bibliothèque Louis Notari\n\nAppuntamento con il Patrimonio: conf
 erenze "Jean Bouin invincibile a Monaco" di Bernard Maccario e "Quando
  Monaco e Nizza entravano nell'era Mercedes" di Jean-Paul Potron  (isc
 rizione obbligatoria)\n\n https://www.principocket.com/it/event/0f09bd
 5380c836ee40fe74c10bee005d/conferenze
LOCATION:5 Promenade Honoré II\, Monaco
URL:https://www.principocket.com/event/0f09bd5380c836ee40fe74c10bee005d/781
DTSTAMP:20260420T120909Z
CREATED:20210219T174118Z
LAST-MODIFIED:20210219T174118Z
END:VEVENT
END:VCALENDAR
