BEGIN:VCALENDAR
VERSION:2.0
PRODID:-//Microsoft Corporation//Outlook 16.0 MIMEDIR//FR
CALSCALE:GREGORIAN
METHOD:PUBLISH
X-WR-TIMEZONE:Europe/Monaco
X-MS-OLK-FORCEINSPECTOROPEN:"TRUE"
BEGIN:VTIMEZONE
TZID:Europe/Monaco
BEGIN:STANDARD
DTSTART:20261025T010000
TZOFFSETTO:+0100
TZOFFSETFROM:+0200
RRULE:FREQ=YEARLY;BYMONTH=11;BYDAY=1SU
END:STANDARD
BEGIN:DAYLIGHT
DTSTART:20260329T010000
TZOFFSETTO:+0200
TZOFFSETFROM:+0100
RRULE:FREQ=YEARLY;BYMONTH=3;BYDAY=2SU
END:DAYLIGHT
END:VTIMEZONE
BEGIN:VEVENT
UID:6320-4c4b1ca9c3c232ce42b9eb0e5c1e8770-principocket.com\n
DTSTART:20260424T143000
DTEND:20260424T143000
TRANSP:TRANSPARENT
IMAGE;VALUE=URI;DISPLAY=;FMTTYPE=image/png:https://app.monacoplatform.
 com/uploads/sz/szrOl66FW6.png
STATUS:CONFIRMED
SUMMARY:Bonhams|Cars: Asta di auto da competizione d'epoca
DESCRIPTION:Venerdì 24 aprile 2026 alle 14:30 - Hôtel Fairmont Monte
  Carlo\n\nBonhams|Cars darà il via alla sua prossima asta a Monaco in
  occasione del 15° Gran Premio di Monaco Storico\, con un’ampia sel
 ezione di auto da competizione d’epoca\, dalla Formula 1 ai rally pa
 ssando per il DTM\, il tutto accompagnato da una selezione di hypercar
  moderne estremamente rare e da alcuni dei più grandi classici dell
 ’automobilismo.\n\n https://www.principocket.com/it/event/4c4b1ca9c3
 c232ce42b9eb0e5c1e8770/bonhams-cars-asta-di-auto-da-competizione-d-epo
 ca
LOCATION:12\, avenue des Spélugues
URL:https://www.principocket.com/event/4c4b1ca9c3c232ce42b9eb0e5c1e877
 0/6320
DTSTAMP:20260424T124656Z
CREATED:20260423T124049Z
LAST-MODIFIED:20260423T124049Z
END:VEVENT
END:VCALENDAR
