BEGIN:VCALENDAR
VERSION:2.0
PRODID:-//Microsoft Corporation//Outlook 16.0 MIMEDIR//FR
CALSCALE:GREGORIAN
METHOD:PUBLISH
X-WR-TIMEZONE:Europe/Monaco
X-MS-OLK-FORCEINSPECTOROPEN:"TRUE"
BEGIN:VTIMEZONE
TZID:Europe/Monaco
BEGIN:STANDARD
DTSTART:20261025T010000
TZOFFSETTO:+0100
TZOFFSETFROM:+0200
RRULE:FREQ=YEARLY;BYMONTH=11;BYDAY=1SU
END:STANDARD
BEGIN:DAYLIGHT
DTSTART:20260329T010000
TZOFFSETTO:+0200
TZOFFSETFROM:+0100
RRULE:FREQ=YEARLY;BYMONTH=3;BYDAY=2SU
END:DAYLIGHT
END:VTIMEZONE
BEGIN:VEVENT
UID:6319-15bb5dac529a3fb06f7403be3012fbe3-principocket.com\n
DTSTART:20260530T190000
DTEND:20260530T203000
TRANSP:TRANSPARENT
IMAGE;VALUE=URI;DISPLAY=;FMTTYPE=image/png:https://app.monacoplatform.
 com/uploads/PJ/PJZUOI_StG.png
STATUS:CONFIRMED
SUMMARY:David & Bruno font leur cinéma !
DESCRIPTION:Sabato 30 maggio 2026 dalle 19:00 a 20:30 - La chiesa rifo
 rmata di Monaco\n\nImmergetevi nelle più belle colonne sonore in comp
 agnia dei due complici:\n\nBruno Membrey\, pianoforte\, arrangiamenti\
 nDavid Lefèvre\, violino\n\n https://www.principocket.com/it/event/15
 bb5dac529a3fb06f7403be3012fbe3/david-bruno-font-leur-cinema
LOCATION:7\, rue Louis Notari
URL:https://www.principocket.com/event/15bb5dac529a3fb06f7403be3012fbe
 3/6319
DTSTAMP:20260424T124547Z
CREATED:20260422T165315Z
LAST-MODIFIED:20260422T165315Z
END:VEVENT
END:VCALENDAR
