BEGIN:VCALENDAR
VERSION:2.0
PRODID:-//Microsoft Corporation//Outlook 16.0 MIMEDIR//FR
CALSCALE:GREGORIAN
METHOD:PUBLISH
X-WR-TIMEZONE:Europe/Monaco
X-MS-OLK-FORCEINSPECTOROPEN:"TRUE"
BEGIN:VTIMEZONE
TZID:Europe/Monaco
BEGIN:STANDARD
DTSTART:20261025T010000
TZOFFSETTO:+0100
TZOFFSETFROM:+0200
RRULE:FREQ=YEARLY;BYMONTH=11;BYDAY=1SU
END:STANDARD
BEGIN:DAYLIGHT
DTSTART:20260329T010000
TZOFFSETTO:+0200
TZOFFSETFROM:+0100
RRULE:FREQ=YEARLY;BYMONTH=3;BYDAY=2SU
END:DAYLIGHT
END:VTIMEZONE
BEGIN:VEVENT
UID:6311-6e17380680f99d0c8ce7720ae217ea0f-principocket.com\n
DTSTART:20260702T000000
DTEND:20260705T235900
TRANSP:TRANSPARENT
IMAGE;VALUE=URI;DISPLAY=;FMTTYPE=image/png:https://app.monacoplatform.
 com/uploads/kV/kVZ1ZEnpHT.png
STATUS:CONFIRMED
SUMMARY:20° Jumping International de Monte-Carlo 2026
DESCRIPTION:Da giovedì 2 a sabato 4 luglio 2026 - Port Hercule de Mon
 aco\n\nNel 2026\, il Jumping International di Monte-Carlo assumerà un
 a dimensione davvero eccezionale. Questa edizione celebrativa segna ve
 nt’anni di eccellenza\, passione ed emozioni nel cuore del Principat
 o\, vent’anni durante i quali l’evento si è affermato come uno de
 gli appuntamenti più emblematici del calendario equestre internaziona
 le.\n\n https://www.principocket.com/it/event/6e17380680f99d0c8ce7720a
 e217ea0f/20-jumping-international-de-monte-carlo-2026
LOCATION:Port Hercule\, Monaco
URL:https://www.principocket.com/event/6e17380680f99d0c8ce7720ae217ea0
 f/6311
DTSTAMP:20260422T175414Z
CREATED:20260422T133403Z
LAST-MODIFIED:20260422T133403Z
X-MICROSOFT-CDO-ALLDAYEVENT:TRUE
END:VEVENT
END:VCALENDAR
