BEGIN:VCALENDAR
VERSION:2.0
PRODID:-//Microsoft Corporation//Outlook 16.0 MIMEDIR//FR
CALSCALE:GREGORIAN
METHOD:PUBLISH
X-WR-TIMEZONE:Europe/Monaco
X-MS-OLK-FORCEINSPECTOROPEN:"TRUE"
BEGIN:VTIMEZONE
TZID:Europe/Monaco
BEGIN:STANDARD
DTSTART:20261025T010000
TZOFFSETTO:+0100
TZOFFSETFROM:+0200
RRULE:FREQ=YEARLY;BYMONTH=11;BYDAY=1SU
END:STANDARD
BEGIN:DAYLIGHT
DTSTART:20260329T010000
TZOFFSETTO:+0200
TZOFFSETFROM:+0100
RRULE:FREQ=YEARLY;BYMONTH=3;BYDAY=2SU
END:DAYLIGHT
END:VTIMEZONE
BEGIN:VEVENT
UID:6209-e9cfb5bda2194dafd0ad67691fb1e2ee-principocket.com\n
DTSTART:20260429T200000
DTEND:20260429T214500
TRANSP:TRANSPARENT
IMAGE;VALUE=URI;DISPLAY=;FMTTYPE=image/png:https://app.monacoplatform.
 com/uploads/a0/a0gJH2YB48.jpg
STATUS:CONFIRMED
SUMMARY:THEATRE PRINCESSE GRACE - LA VEUVE RUSÉE
DESCRIPTION:Mercoledì 29 aprile 2026 dalle 20:00 a 21:45 - Grimaldi F
 orum Monaco\n\n⏰ : Wednesday 29 April at 8pm - 1h45 without intermis
 sion📍:  Prince Pierre Auditorium - Grimaldi Forum Monaco🎟: Full
  price tickets €34\, youth price €22On-site parking\, night rate (
 from 8 p.m. to 8 a.m.) €0.20 per 15 minutes\n\n https://www.principo
 cket.com/it/event/e9cfb5bda2194dafd0ad67691fb1e2ee/theatre-princesse-g
 race-la-veuve-rusee
LOCATION:10\, avenue Princesse Grace
URL:https://www.principocket.com/event/e9cfb5bda2194dafd0ad67691fb1e2e
 e/6209
DTSTAMP:20260420T181659Z
CREATED:20260420T152533Z
LAST-MODIFIED:20260420T152533Z
END:VEVENT
END:VCALENDAR
