BEGIN:VCALENDAR
VERSION:2.0
PRODID:-//Microsoft Corporation//Outlook 16.0 MIMEDIR//FR
CALSCALE:GREGORIAN
METHOD:PUBLISH
X-WR-TIMEZONE:Europe/Monaco
X-MS-OLK-FORCEINSPECTOROPEN:"TRUE"
BEGIN:VTIMEZONE
TZID:Europe/Monaco
BEGIN:STANDARD
DTSTART:20261025T010000
TZOFFSETTO:+0100
TZOFFSETFROM:+0200
RRULE:FREQ=YEARLY;BYMONTH=11;BYDAY=1SU
END:STANDARD
BEGIN:DAYLIGHT
DTSTART:20260329T010000
TZOFFSETTO:+0200
TZOFFSETFROM:+0100
RRULE:FREQ=YEARLY;BYMONTH=3;BYDAY=2SU
END:DAYLIGHT
END:VTIMEZONE
BEGIN:VEVENT
UID:6199-dd016eda6db3f8be4dd883c337541971-principocket.com\n
DTSTART:20260528T200000
DTEND:20260601T190000
TRANSP:TRANSPARENT
IMAGE;VALUE=URI;DISPLAY=;FMTTYPE=image/png:https://app.monacoplatform.
 com/uploads/T4/T4IVRAF1UC.png
STATUS:CONFIRMED
SUMMARY:MARIUS
DESCRIPTION:Da giovedì 28 a domenica 31 maggio 2026\, dalle 20:00 a 1
 9:00 - Théâtre des Muses\n\nDopo i successi di "Adieu Monsieur Haffm
 ann" e "Du charbon dans les veines"\, Jean-Philippe Daguerre ci stupis
 ce ancora grazie a Marcel Pagnol!\n\n https://www.principocket.com/it/
 event/dd016eda6db3f8be4dd883c337541971/marius
LOCATION:45\, boulevard du Jardin Exotique
URL:https://www.principocket.com/event/dd016eda6db3f8be4dd883c33754197
 1/6199
DTSTAMP:20260424T110350Z
CREATED:20260416T104942Z
LAST-MODIFIED:20260416T104942Z
END:VEVENT
END:VCALENDAR
