BEGIN:VCALENDAR
VERSION:2.0
PRODID:-//Microsoft Corporation//Outlook 16.0 MIMEDIR//FR
CALSCALE:GREGORIAN
METHOD:PUBLISH
X-WR-TIMEZONE:Europe/Monaco
X-MS-OLK-FORCEINSPECTOROPEN:"TRUE"
BEGIN:VTIMEZONE
TZID:Europe/Monaco
BEGIN:STANDARD
DTSTART:20201025T010000
TZOFFSETTO:+0100
TZOFFSETFROM:+0200
RRULE:FREQ=YEARLY;BYMONTH=11;BYDAY=1SU
END:STANDARD
BEGIN:DAYLIGHT
DTSTART:20200329T010000
TZOFFSETTO:+0200
TZOFFSETFROM:+0100
RRULE:FREQ=YEARLY;BYMONTH=3;BYDAY=2SU
END:DAYLIGHT
END:VTIMEZONE
BEGIN:VEVENT
UID:613-7f44a31275dbecc4732e5e5e7e9fedec-principocket.com\n
DTSTART:20201202T190000
DTEND:20201202T190000
TRANSP:TRANSPARENT
IMAGE;VALUE=URI;DISPLAY=;FMTTYPE=image/png:https://app.monacoplatform.
 com/uploads/Ym/Ym5q_3VvbL.jpg
STATUS:CONFIRMED
SUMMARY:Terrence Malik: ossessioni e rivoluzioni
DESCRIPTION:Mercoledì 2 dicembre 2020\, alle 19h\, Médiathèque de M
 onaco - Bibliothèque Louis Notari\n\nCine-bla bla: Terrence Malik: os
 sessioni e rivoluzioni. Analisi del film moderata da e proiezione di "
 La balade sauvage" (ndt\, "La rabbia giovane")\n\n https://www.princip
 ocket.com/it/event/7f44a31275dbecc4732e5e5e7e9fedec/terrence-malik-oss
 essioni-e-rivoluzioni
LOCATION:5 Promenade Honoré II\, Monaco
URL:https://www.principocket.com/event/7f44a31275dbecc4732e5e5e7e9fedec/613
DTSTAMP:20260420T121151Z
CREATED:20201125T145900Z
LAST-MODIFIED:20201125T145900Z
END:VEVENT
END:VCALENDAR
