BEGIN:VCALENDAR
VERSION:2.0
PRODID:-//Microsoft Corporation//Outlook 16.0 MIMEDIR//FR
CALSCALE:GREGORIAN
METHOD:PUBLISH
X-WR-TIMEZONE:Europe/Monaco
X-MS-OLK-FORCEINSPECTOROPEN:"TRUE"
BEGIN:VTIMEZONE
TZID:Europe/Monaco
BEGIN:STANDARD
DTSTART:20201025T010000
TZOFFSETTO:+0100
TZOFFSETFROM:+0200
RRULE:FREQ=YEARLY;BYMONTH=11;BYDAY=1SU
END:STANDARD
BEGIN:DAYLIGHT
DTSTART:20200329T010000
TZOFFSETTO:+0200
TZOFFSETFROM:+0100
RRULE:FREQ=YEARLY;BYMONTH=3;BYDAY=2SU
END:DAYLIGHT
END:VTIMEZONE
BEGIN:VEVENT
UID:609-e3c2ace86e7198901d05e23115620083-principocket.com\n
DTSTART:20201116T203000
DTEND:20201116T203000
TRANSP:TRANSPARENT
IMAGE;VALUE=URI;DISPLAY=;FMTTYPE=image/png:https://app.monacoplatform.
 com/uploads/dx/dxPpPeb-1l.jpg
STATUS:CONFIRMED
SUMMARY:Let’s Get Lost - Perdiamoci
DESCRIPTION:Lunedì 16 novembre 2020 alle 20.30\, Opéra de Monte-Carl
 o - Salle Garnier\n\nTutta l'Arte del Cinema - Jazz e cinema: proiezio
 ne del film "Let's Get Lost" di Bruce Weber\, a cura dell'Istituto aud
 iovisivo di Monaco\, in collaborazione con il Monte-Carlo Jazz Festiva
 l\n\n https://www.principocket.com/it/event/e3c2ace86e7198901d05e23115
 620083/let-s-get-lost-perdiamoci
LOCATION:Place du Casino
URL:https://www.principocket.com/event/e3c2ace86e7198901d05e23115620083/609
DTSTAMP:20260421T051604Z
CREATED:20201026T094347Z
LAST-MODIFIED:20201026T094347Z
END:VEVENT
END:VCALENDAR
