BEGIN:VCALENDAR
VERSION:2.0
PRODID:-//Microsoft Corporation//Outlook 16.0 MIMEDIR//FR
CALSCALE:GREGORIAN
METHOD:PUBLISH
X-WR-TIMEZONE:Europe/Monaco
X-MS-OLK-FORCEINSPECTOROPEN:"TRUE"
BEGIN:VTIMEZONE
TZID:Europe/Monaco
BEGIN:STANDARD
DTSTART:20201025T010000
TZOFFSETTO:+0100
TZOFFSETFROM:+0200
RRULE:FREQ=YEARLY;BYMONTH=11;BYDAY=1SU
END:STANDARD
BEGIN:DAYLIGHT
DTSTART:20200329T010000
TZOFFSETTO:+0200
TZOFFSETFROM:+0100
RRULE:FREQ=YEARLY;BYMONTH=3;BYDAY=2SU
END:DAYLIGHT
END:VTIMEZONE
BEGIN:VEVENT
UID:607-707266da2f09bf462259a215cdf6d775-principocket.com\n
DTSTART:20201116T180000
DTEND:20201116T180000
TRANSP:TRANSPARENT
IMAGE;VALUE=URI;DISPLAY=;FMTTYPE=image/png:https://app.monacoplatform.
 com/uploads/0M/0MDgJw3G-D.jpg
STATUS:CONFIRMED
SUMMARY:Pausa scrittura
DESCRIPTION:Lunedì 16 novembre 2020\, alle 18h\, Médiathèque de Mon
 aco - Bibliothèque Louis Notari\n\nPausa scrittura a cura di Eric Laf
 itte\n\n https://www.principocket.com/it/event/707266da2f09bf462259a21
 5cdf6d775/pausa-scrittura
LOCATION:5 Promenade Honoré II\, Monaco
URL:https://www.principocket.com/event/707266da2f09bf462259a215cdf6d775/607
DTSTAMP:20260421T020344Z
CREATED:20201026T094347Z
LAST-MODIFIED:20201026T094347Z
END:VEVENT
END:VCALENDAR
