BEGIN:VCALENDAR
VERSION:2.0
PRODID:-//Microsoft Corporation//Outlook 16.0 MIMEDIR//FR
CALSCALE:GREGORIAN
METHOD:PUBLISH
X-WR-TIMEZONE:Europe/Monaco
X-MS-OLK-FORCEINSPECTOROPEN:"TRUE"
BEGIN:VTIMEZONE
TZID:Europe/Monaco
BEGIN:STANDARD
DTSTART:20201025T010000
TZOFFSETTO:+0100
TZOFFSETFROM:+0200
RRULE:FREQ=YEARLY;BYMONTH=11;BYDAY=1SU
END:STANDARD
BEGIN:DAYLIGHT
DTSTART:20200329T010000
TZOFFSETTO:+0200
TZOFFSETFROM:+0100
RRULE:FREQ=YEARLY;BYMONTH=3;BYDAY=2SU
END:DAYLIGHT
END:VTIMEZONE
BEGIN:VEVENT
UID:606-720b64078eb00bddf5607834008c4c27-principocket.com\n
DTSTART:20201112T183000
DTEND:20201112T183000
TRANSP:TRANSPARENT
IMAGE;VALUE=URI;DISPLAY=;FMTTYPE=image/png:https://app.monacoplatform.
 com/uploads/8T/8TdrJnf9KZ.jpg
STATUS:CONFIRMED
SUMMARY:Conferenza
DESCRIPTION:Giovedì 12 novembre 2020 alle 18.30\, Mediateca di Monaco
  - Biblioteca Louis Notari\n\nConferenza a tema su "I compositori glob
 e-trotter" (XIX-XX secolo): quaderni di appunti per quali musica?" a c
 ura di Corinne Schneider\n\n https://www.principocket.com/it/event/720
 b64078eb00bddf5607834008c4c27/conferenza
LOCATION:5 Promenade Honoré II\, Monaco
URL:https://www.principocket.com/event/720b64078eb00bddf5607834008c4c27/606
DTSTAMP:20260421T004242Z
CREATED:20201026T094347Z
LAST-MODIFIED:20201026T094347Z
END:VEVENT
END:VCALENDAR
