BEGIN:VCALENDAR
VERSION:2.0
PRODID:-//Microsoft Corporation//Outlook 16.0 MIMEDIR//FR
CALSCALE:GREGORIAN
METHOD:PUBLISH
X-WR-TIMEZONE:Europe/Monaco
X-MS-OLK-FORCEINSPECTOROPEN:"TRUE"
BEGIN:VTIMEZONE
TZID:Europe/Monaco
BEGIN:STANDARD
DTSTART:20201025T010000
TZOFFSETTO:+0100
TZOFFSETFROM:+0200
RRULE:FREQ=YEARLY;BYMONTH=11;BYDAY=1SU
END:STANDARD
BEGIN:DAYLIGHT
DTSTART:20200329T010000
TZOFFSETTO:+0200
TZOFFSETFROM:+0100
RRULE:FREQ=YEARLY;BYMONTH=3;BYDAY=2SU
END:DAYLIGHT
END:VTIMEZONE
BEGIN:VEVENT
UID:603-c386adad63bd1118f9e4f822ad9cac2e-principocket.com\n
DTSTART:20201030T200000
DTEND:20201030T200000
TRANSP:TRANSPARENT
IMAGE;VALUE=URI;DISPLAY=;FMTTYPE=image/png:https://app.monacoplatform.
 com/uploads/0E/0EcheDUyYD.jpg
STATUS:CONFIRMED
SUMMARY:Sull'enciclica Laudato Sì
DESCRIPTION:Venerdì 30 ottobre 2020 alle 20\, Théâtre des Variété
 s\n\n"Sull'enciclica Laudato Sì"\, spettacolo sull'enciclica di Papa 
 Francesco\, con Céline Monsarrat e Bernard Lanneau\, recitanti\, e il
  Quartetto a corde Monoïkos\, in collaborazione con la Fondazione Alb
 ert II e il Museo Oceanografico\n\n https://www.principocket.com/it/ev
 ent/c386adad63bd1118f9e4f822ad9cac2e/sull-enciclica-laudato-si
LOCATION:1\, boulevard Albert Ier
URL:https://www.principocket.com/event/c386adad63bd1118f9e4f822ad9cac2e/603
DTSTAMP:20260420T170941Z
CREATED:20201026T094347Z
LAST-MODIFIED:20201026T094347Z
END:VEVENT
END:VCALENDAR
