BEGIN:VCALENDAR
VERSION:2.0
PRODID:-//Microsoft Corporation//Outlook 16.0 MIMEDIR//FR
CALSCALE:GREGORIAN
METHOD:PUBLISH
X-WR-TIMEZONE:Europe/Monaco
X-MS-OLK-FORCEINSPECTOROPEN:"TRUE"
BEGIN:VTIMEZONE
TZID:Europe/Monaco
BEGIN:STANDARD
DTSTART:20201025T010000
TZOFFSETTO:+0100
TZOFFSETFROM:+0200
RRULE:FREQ=YEARLY;BYMONTH=11;BYDAY=1SU
END:STANDARD
BEGIN:DAYLIGHT
DTSTART:20200329T010000
TZOFFSETTO:+0200
TZOFFSETFROM:+0100
RRULE:FREQ=YEARLY;BYMONTH=3;BYDAY=2SU
END:DAYLIGHT
END:VTIMEZONE
BEGIN:VEVENT
UID:602-ae1b16a2a9a990a30e692c62868dac3b-principocket.com\n
DTSTART:20201027T200000
DTEND:20201027T200000
TRANSP:TRANSPARENT
IMAGE;VALUE=URI;DISPLAY=;FMTTYPE=image/png:https://app.monacoplatform.
 com/uploads/DJ/DJfBuXwJtC.jpg
STATUS:CONFIRMED
SUMMARY:L'amour c'est gai, l'amour c'est triste
DESCRIPTION:Martedì 27 ottobre 2020 alle 20\, Théâtre des Variété
 s\n\nTutta l'Arte del Cinema - I Martedì del Cinema: proiezione del f
 ilm "L'amour c'est gai\, l'amour c'est triste" di Jean-Daniel Pollet\,
  a cura dell'Istituto audiovisivo di Monaco\n\n https://www.principock
 et.com/it/event/ae1b16a2a9a990a30e692c62868dac3b/l-amour-c-est-gai-l-a
 mour-c-est-triste
LOCATION:1\, boulevard Albert Ier
URL:https://www.principocket.com/event/ae1b16a2a9a990a30e692c62868dac3b/602
DTSTAMP:20260420T154732Z
CREATED:20201026T094347Z
LAST-MODIFIED:20201026T094347Z
END:VEVENT
END:VCALENDAR
