BEGIN:VCALENDAR
VERSION:2.0
PRODID:-//Microsoft Corporation//Outlook 16.0 MIMEDIR//FR
CALSCALE:GREGORIAN
METHOD:PUBLISH
X-WR-TIMEZONE:Europe/Monaco
X-MS-OLK-FORCEINSPECTOROPEN:"TRUE"
BEGIN:VTIMEZONE
TZID:Europe/Monaco
BEGIN:STANDARD
DTSTART:20211031T010000
TZOFFSETTO:+0100
TZOFFSETFROM:+0200
RRULE:FREQ=YEARLY;BYMONTH=11;BYDAY=1SU
END:STANDARD
BEGIN:DAYLIGHT
DTSTART:20210328T010000
TZOFFSETTO:+0200
TZOFFSETFROM:+0100
RRULE:FREQ=YEARLY;BYMONTH=3;BYDAY=2SU
END:DAYLIGHT
END:VTIMEZONE
BEGIN:VEVENT
UID:588-fe69a3f20f701ca72738638024c540c1-principocket.com\n
DTSTART:20210318T203000
DTEND:20210318T203000
TRANSP:TRANSPARENT
IMAGE;VALUE=URI;DISPLAY=;FMTTYPE=image/png:https://app.monacoplatform.
 com/uploads/16/16lLwNrY36.jpg
STATUS:CONFIRMED
SUMMARY:Brûlez des voitures (ndt, "Bruciate delle automobili")
DESCRIPTION:Giovedì 18 marzo 2021 alle 20.30\, Théâtre Princesse Gr
 ace\n\n"Brûlez des voitures"\, (ndt\, "Bruciate delle automobili") di
  Matt Hartley con Kevin Pastore\, Melissa Polonie\, Sophie Cossu\, Cé
 lia Riley\, Céline Capacci\, Guillaume Gallo Manrique\, Lucas Gimello
 \, Nicolas Boisdenghien e Melissa Calatayud\n\n https://www.principock
 et.com/it/event/fe69a3f20f701ca72738638024c540c1/brulez-des-voitures-n
 dt-bruciate-delle-automobili
LOCATION:12\, avenue d'Ostende
URL:https://www.principocket.com/event/fe69a3f20f701ca72738638024c540c1/588
DTSTAMP:20260419T150913Z
CREATED:20210219T174118Z
LAST-MODIFIED:20210219T174118Z
END:VEVENT
END:VCALENDAR
