BEGIN:VCALENDAR
VERSION:2.0
PRODID:-//Microsoft Corporation//Outlook 16.0 MIMEDIR//FR
CALSCALE:GREGORIAN
METHOD:PUBLISH
X-WR-TIMEZONE:Europe/Monaco
X-MS-OLK-FORCEINSPECTOROPEN:"TRUE"
BEGIN:VTIMEZONE
TZID:Europe/Monaco
BEGIN:STANDARD
DTSTART:20211031T010000
TZOFFSETTO:+0100
TZOFFSETFROM:+0200
RRULE:FREQ=YEARLY;BYMONTH=11;BYDAY=1SU
END:STANDARD
BEGIN:DAYLIGHT
DTSTART:20210328T010000
TZOFFSETTO:+0200
TZOFFSETFROM:+0100
RRULE:FREQ=YEARLY;BYMONTH=3;BYDAY=2SU
END:DAYLIGHT
END:VTIMEZONE
BEGIN:VEVENT
UID:576-02aca6f2304a8290f425c130f4185531-principocket.com\n
DTSTART:20210118T000000
DTEND:20210125T235900
TRANSP:TRANSPARENT
IMAGE;VALUE=URI;DISPLAY=;FMTTYPE=image/png:https://app.monacoplatform.
 com/uploads/-B/-B6caOFyzE.jpg
STATUS:CONFIRMED
SUMMARY:89° Rally Automobilistico di Monte-Carlo
DESCRIPTION:Da lunedì 18 a domenica 24 gennaio 2021\, Principato di M
 onaco\n\n89° Rally Automobilistico di Monte-Carlo\, manche inaugurale
  del Campionato del Mondo di Rally della FIA 2021 (WRC)\n\n https://ww
 w.principocket.com/it/event/02aca6f2304a8290f425c130f4185531/89-rally-
 automobilistico-di-monte-carlo
LOCATION:Monaco
URL:https://www.principocket.com/event/02aca6f2304a8290f425c130f4185531/576
DTSTAMP:20260422T104345Z
CREATED:20210104T144224Z
LAST-MODIFIED:20210104T144224Z
X-MICROSOFT-CDO-ALLDAYEVENT:TRUE
END:VEVENT
END:VCALENDAR
