BEGIN:VCALENDAR
VERSION:2.0
PRODID:-//Microsoft Corporation//Outlook 16.0 MIMEDIR//FR
CALSCALE:GREGORIAN
METHOD:PUBLISH
X-WR-TIMEZONE:Europe/Monaco
X-MS-OLK-FORCEINSPECTOROPEN:"TRUE"
BEGIN:VTIMEZONE
TZID:Europe/Monaco
BEGIN:STANDARD
DTSTART:20211031T010000
TZOFFSETTO:+0100
TZOFFSETFROM:+0200
RRULE:FREQ=YEARLY;BYMONTH=11;BYDAY=1SU
END:STANDARD
BEGIN:DAYLIGHT
DTSTART:20210328T010000
TZOFFSETTO:+0200
TZOFFSETFROM:+0100
RRULE:FREQ=YEARLY;BYMONTH=3;BYDAY=2SU
END:DAYLIGHT
END:VTIMEZONE
BEGIN:VEVENT
UID:574-ec6e4897066a3977440668bf0e86220c-principocket.com\n
DTSTART:20210503T203000
DTEND:20210503T203000
TRANSP:TRANSPARENT
IMAGE;VALUE=URI;DISPLAY=;FMTTYPE=image/png:https://app.monacoplatform.
 com/uploads/VP/VP6aEOBE_3.jpg
STATUS:CONFIRMED
SUMMARY:Le elucubrazioni di un uomo improvvisamente colpito dalla grazia
DESCRIPTION:Lunedì 3 maggio 2021\, alle 20.30\, Théâtre Princesse G
 race\n\n"Le elucubrazioni di un uomo improvvisamente colpito dalla gra
 zia"\, spettacolo di e con Édouard Baer\, Christophe Meynet o Jack So
 uvant\, Pat e Tito\n\n https://www.principocket.com/it/event/ec6e48970
 66a3977440668bf0e86220c/le-elucubrazioni-di-un-uomo-improvvisamente-co
 lpito-dalla-grazia
LOCATION:12\, avenue d'Ostende
URL:https://www.principocket.com/event/ec6e4897066a3977440668bf0e86220c/574
DTSTAMP:20260420T165135Z
CREATED:20210420T142703Z
LAST-MODIFIED:20210420T142703Z
END:VEVENT
END:VCALENDAR
