BEGIN:VCALENDAR
VERSION:2.0
PRODID:-//Microsoft Corporation//Outlook 16.0 MIMEDIR//FR
CALSCALE:GREGORIAN
METHOD:PUBLISH
X-WR-TIMEZONE:Europe/Monaco
X-MS-OLK-FORCEINSPECTOROPEN:"TRUE"
BEGIN:VTIMEZONE
TZID:Europe/Monaco
BEGIN:STANDARD
DTSTART:20201025T010000
TZOFFSETTO:+0100
TZOFFSETFROM:+0200
RRULE:FREQ=YEARLY;BYMONTH=11;BYDAY=1SU
END:STANDARD
BEGIN:DAYLIGHT
DTSTART:20200329T010000
TZOFFSETTO:+0200
TZOFFSETFROM:+0100
RRULE:FREQ=YEARLY;BYMONTH=3;BYDAY=2SU
END:DAYLIGHT
END:VTIMEZONE
BEGIN:VEVENT
UID:571-c7fe11a649ef10b684bbf54fe0fbbc28-principocket.com\n
DTSTART:20201215T193000
DTEND:20201215T193000
TRANSP:TRANSPARENT
IMAGE;VALUE=URI;DISPLAY=;FMTTYPE=image/png:https://app.monacoplatform.
 com/uploads/AL/ALaWv4dvRc.jpg
STATUS:CONFIRMED
SUMMARY:Universalità, l'uomo e il cosmo
DESCRIPTION:Martedì 15 dicembre 2020 alle 19.30\, Théâtre Princesse
  Grace\n\n"Universalità\, l'uomo e il cosmo" di e con Shani Diluka\, 
 pianoforte\, e Charles Berling\, letteratura e poesia\, Mehboob Nadeem
 \, sitar\, Mitel Purohit\, Tablah e altri ospiti.. presentato da Clair
 e Chazal\n\n https://www.principocket.com/it/event/c7fe11a649ef10b684b
 bf54fe0fbbc28/universalita-l-uomo-e-il-cosmo
LOCATION:12\, avenue d'Ostende
URL:https://www.principocket.com/event/c7fe11a649ef10b684bbf54fe0fbbc28/571
DTSTAMP:20260422T123243Z
CREATED:20201026T094347Z
LAST-MODIFIED:20201026T094347Z
END:VEVENT
END:VCALENDAR
