BEGIN:VCALENDAR
VERSION:2.0
PRODID:-//Microsoft Corporation//Outlook 16.0 MIMEDIR//FR
CALSCALE:GREGORIAN
METHOD:PUBLISH
X-WR-TIMEZONE:Europe/Monaco
X-MS-OLK-FORCEINSPECTOROPEN:"TRUE"
BEGIN:VTIMEZONE
TZID:Europe/Monaco
BEGIN:STANDARD
DTSTART:20201025T010000
TZOFFSETTO:+0100
TZOFFSETFROM:+0200
RRULE:FREQ=YEARLY;BYMONTH=11;BYDAY=1SU
END:STANDARD
BEGIN:DAYLIGHT
DTSTART:20200329T010000
TZOFFSETTO:+0200
TZOFFSETFROM:+0100
RRULE:FREQ=YEARLY;BYMONTH=3;BYDAY=2SU
END:DAYLIGHT
END:VTIMEZONE
BEGIN:VEVENT
UID:570-14d5ab73b2c7cd18df86bafc95f30a80-principocket.com\n
DTSTART:20201209T150000
DTEND:20201209T150000
TRANSP:TRANSPARENT
IMAGE;VALUE=URI;DISPLAY=;FMTTYPE=image/png:https://app.monacoplatform.
 com/uploads/wW/wWlfCh5SvG.jpg
STATUS:CONFIRMED
SUMMARY:Babbo Natale è scomparso
DESCRIPTION:Mercoledì 9 diocembre 2020 alle 15\, Théâtre Princesse 
 Grace\n\n"Babbo Natale è scomparso"\, spettacolo per il giovane pubbl
 ico (dai 3 anni in su) di Dominique Lefebvre con l'Artscène Compagnie
 \n\n https://www.principocket.com/it/event/14d5ab73b2c7cd18df86bafc95f
 30a80/babbo-natale-e-scomparso
LOCATION:12\, avenue d'Ostende
URL:https://www.principocket.com/event/14d5ab73b2c7cd18df86bafc95f30a80/570
DTSTAMP:20260421T013200Z
CREATED:20201125T145900Z
LAST-MODIFIED:20201125T145900Z
END:VEVENT
END:VCALENDAR
