BEGIN:VCALENDAR
VERSION:2.0
PRODID:-//Microsoft Corporation//Outlook 16.0 MIMEDIR//FR
CALSCALE:GREGORIAN
METHOD:PUBLISH
X-WR-TIMEZONE:Europe/Monaco
X-MS-OLK-FORCEINSPECTOROPEN:"TRUE"
BEGIN:VTIMEZONE
TZID:Europe/Monaco
BEGIN:STANDARD
DTSTART:20201025T010000
TZOFFSETTO:+0100
TZOFFSETFROM:+0200
RRULE:FREQ=YEARLY;BYMONTH=11;BYDAY=1SU
END:STANDARD
BEGIN:DAYLIGHT
DTSTART:20200329T010000
TZOFFSETTO:+0200
TZOFFSETFROM:+0100
RRULE:FREQ=YEARLY;BYMONTH=3;BYDAY=2SU
END:DAYLIGHT
END:VTIMEZONE
BEGIN:VEVENT
UID:566-220e15b867ade9ae5168121f40e1d184-principocket.com\n
DTSTART:20201109T203000
DTEND:20201109T203000
TRANSP:TRANSPARENT
IMAGE;VALUE=URI;DISPLAY=;FMTTYPE=image/png:https://app.monacoplatform.
 com/uploads/Rv/RvwioCF0I1.jpg
STATUS:CONFIRMED
SUMMARY:L'Heureux Stratagème
DESCRIPTION:Lunedì 9 novembre 2020 alle 20.30\, Grimaldi Forum Monaco
 \n\n"L'Heureux Stratagème"\, di Marivaux con Éric Elmosnino\, Sylvie
  Testud\, Jérôme Robart\, Jean-Yves Roan\, Simon Thomas\, Roxane Dur
 an e Florent Hill\n\n https://www.principocket.com/it/event/220e15b867
 ade9ae5168121f40e1d184/l-heureux-stratageme
LOCATION:10\, avenue Princesse Grace
URL:https://www.principocket.com/event/220e15b867ade9ae5168121f40e1d184/566
DTSTAMP:20260421T074135Z
CREATED:20201026T094347Z
LAST-MODIFIED:20201026T094347Z
END:VEVENT
END:VCALENDAR
