BEGIN:VCALENDAR
VERSION:2.0
PRODID:-//Microsoft Corporation//Outlook 16.0 MIMEDIR//FR
CALSCALE:GREGORIAN
METHOD:PUBLISH
X-WR-TIMEZONE:Europe/Monaco
X-MS-OLK-FORCEINSPECTOROPEN:"TRUE"
BEGIN:VTIMEZONE
TZID:Europe/Monaco
BEGIN:STANDARD
DTSTART:20221030T010000
TZOFFSETTO:+0100
TZOFFSETFROM:+0200
RRULE:FREQ=YEARLY;BYMONTH=11;BYDAY=1SU
END:STANDARD
BEGIN:DAYLIGHT
DTSTART:20220327T010000
TZOFFSETTO:+0200
TZOFFSETFROM:+0100
RRULE:FREQ=YEARLY;BYMONTH=3;BYDAY=2SU
END:DAYLIGHT
END:VTIMEZONE
BEGIN:VEVENT
UID:565-a8c69ab22ea6366d32c0e0b9e6486039-principocket.com\n
DTSTART:20200910T000000
DTEND:20220101T235900
TRANSP:TRANSPARENT
IMAGE;VALUE=URI;DISPLAY=;FMTTYPE=image/png:https://app.monacoplatform.
 com/uploads/a8/a8J8LyKOl_.jpg
STATUS:CONFIRMED
SUMMARY:Monarchéo
DESCRIPTION:Museo di Antropologia Preistorica\n\nPiù di un centinaio 
 di specialisti locali e mondiali si sono uniti al team di collaborator
 i del museo per studiare\, talvolta per la prima volta\, gli oggetto a
 rcheologici rinvenuti sul territorio monegasco e per rendere accessibi
 li a tutti questi nuovi ritrovati. \n\n https://www.principocket.com/
 it/event/a8c69ab22ea6366d32c0e0b9e6486039/monarcheo
LOCATION:56 bis\, boulevard du Jardin Exotique
URL:https://www.principocket.com/event/a8c69ab22ea6366d32c0e0b9e6486039/565
DTSTAMP:20260423T085211Z
CREATED:20211210T101854Z
LAST-MODIFIED:20211210T101854Z
X-MICROSOFT-CDO-ALLDAYEVENT:TRUE
END:VEVENT
END:VCALENDAR
