BEGIN:VCALENDAR
VERSION:2.0
PRODID:-//Microsoft Corporation//Outlook 16.0 MIMEDIR//FR
CALSCALE:GREGORIAN
METHOD:PUBLISH
X-WR-TIMEZONE:Europe/Monaco
X-MS-OLK-FORCEINSPECTOROPEN:"TRUE"
BEGIN:VTIMEZONE
TZID:Europe/Monaco
BEGIN:STANDARD
DTSTART:20201025T010000
TZOFFSETTO:+0100
TZOFFSETFROM:+0200
RRULE:FREQ=YEARLY;BYMONTH=11;BYDAY=1SU
END:STANDARD
BEGIN:DAYLIGHT
DTSTART:20200329T010000
TZOFFSETTO:+0200
TZOFFSETFROM:+0100
RRULE:FREQ=YEARLY;BYMONTH=3;BYDAY=2SU
END:DAYLIGHT
END:VTIMEZONE
BEGIN:VEVENT
UID:534-f5192bf772720e7ada2bf4ac13f8e236-principocket.com\n
DTSTART:20201029T203000
DTEND:20201029T203000
TRANSP:TRANSPARENT
IMAGE;VALUE=URI;DISPLAY=;FMTTYPE=image/png:https://app.monacoplatform.
 com/uploads/Cf/CfL-xqTgLp.jpg
STATUS:CONFIRMED
SUMMARY:George Dandin
DESCRIPTION:Giovedì 29 ottobre 2020\, alle 20.30\, Grimaldi Forum Mon
 aco\n\nCommedia in musica di Molière e Lully\n\n https://www.princip
 ocket.com/it/event/f5192bf772720e7ada2bf4ac13f8e236/george-dandin
LOCATION:10\, avenue Princesse Grace
URL:https://www.principocket.com/event/f5192bf772720e7ada2bf4ac13f8e236/534
DTSTAMP:20260425T105541Z
CREATED:20201026T094347Z
LAST-MODIFIED:20201026T094347Z
END:VEVENT
END:VCALENDAR
