BEGIN:VCALENDAR
VERSION:2.0
PRODID:-//Microsoft Corporation//Outlook 16.0 MIMEDIR//FR
CALSCALE:GREGORIAN
METHOD:PUBLISH
X-WR-TIMEZONE:Europe/Monaco
X-MS-OLK-FORCEINSPECTOROPEN:"TRUE"
BEGIN:VTIMEZONE
TZID:Europe/Monaco
BEGIN:STANDARD
DTSTART:20201025T010000
TZOFFSETTO:+0100
TZOFFSETFROM:+0200
RRULE:FREQ=YEARLY;BYMONTH=11;BYDAY=1SU
END:STANDARD
BEGIN:DAYLIGHT
DTSTART:20200329T010000
TZOFFSETTO:+0200
TZOFFSETFROM:+0100
RRULE:FREQ=YEARLY;BYMONTH=3;BYDAY=2SU
END:DAYLIGHT
END:VTIMEZONE
BEGIN:VEVENT
UID:533-0ba528edff871fea75c05de601797ead-principocket.com\n
DTSTART:20201022T203000
DTEND:20201022T203000
TRANSP:TRANSPARENT
IMAGE;VALUE=URI;DISPLAY=;FMTTYPE=image/png:https://app.monacoplatform.
 com/uploads/Mx/MxPeD85rjw.jpg
STATUS:CONFIRMED
SUMMARY:Trappola per topi
DESCRIPTION:Giovedì 22 ottobre 2020 alle 20.30\, Théâtre Princesse 
 Grace\n\n"Trappola per Topi" di Agatha Christie con Dominique Daguier\
 , Sylviane Goudal\, Stéphanie Hédin\, Brice Hillairet\, Pierre-Alain
  Leleu\, Marc Maurille\, Christelle Reboul e Frédéric Rose\n\n https
 ://www.principocket.com/it/event/0ba528edff871fea75c05de601797ead/trap
 pola-per-topi
LOCATION:12\, avenue d'Ostende
URL:https://www.principocket.com/event/0ba528edff871fea75c05de601797ead/533
DTSTAMP:20260423T085235Z
CREATED:20201005T102446Z
LAST-MODIFIED:20201005T102446Z
END:VEVENT
END:VCALENDAR
