BEGIN:VCALENDAR
VERSION:2.0
PRODID:-//Microsoft Corporation//Outlook 16.0 MIMEDIR//FR
CALSCALE:GREGORIAN
METHOD:PUBLISH
X-WR-TIMEZONE:Europe/Monaco
X-MS-OLK-FORCEINSPECTOROPEN:"TRUE"
BEGIN:VTIMEZONE
TZID:Europe/Monaco
BEGIN:STANDARD
DTSTART:20201025T010000
TZOFFSETTO:+0100
TZOFFSETFROM:+0200
RRULE:FREQ=YEARLY;BYMONTH=11;BYDAY=1SU
END:STANDARD
BEGIN:DAYLIGHT
DTSTART:20200329T010000
TZOFFSETTO:+0200
TZOFFSETFROM:+0100
RRULE:FREQ=YEARLY;BYMONTH=3;BYDAY=2SU
END:DAYLIGHT
END:VTIMEZONE
BEGIN:VEVENT
UID:532-e987df19b4620939477cb0a6e208d79c-principocket.com\n
DTSTART:20201018T180000
DTEND:20201018T180000
TRANSP:TRANSPARENT
IMAGE;VALUE=URI;DISPLAY=;FMTTYPE=image/png:https://app.monacoplatform.
 com/uploads/o1/o1FswGqcMK.jpg
STATUS:CONFIRMED
SUMMARY:Serie Grande Stagione
DESCRIPTION:Domenica 18 ottobre 2020 alle 18\, Auditorium Rainier III\
 n\nSerie Grande Stagione: concerto con Karine Deshayes\, soprano\, Ér
 ic Huchet\, tenore\, Thomas Dolié\, baritono\, Julien Behr\, tenore\,
  David Wilson- Johnson\, baritono basso\, diretto da Charles Dutoit. I
 n programma: Emmanuel Chabrier\, Claude Debussy e Maurice Ravel\n\n ht
 tps://www.principocket.com/it/event/e987df19b4620939477cb0a6e208d79c/s
 erie-grande-stagione
LOCATION:Boulevard Louis II
URL:https://www.principocket.com/event/e987df19b4620939477cb0a6e208d79c/532
DTSTAMP:20260421T073657Z
CREATED:20201005T102446Z
LAST-MODIFIED:20201005T102446Z
END:VEVENT
END:VCALENDAR
