BEGIN:VCALENDAR
VERSION:2.0
PRODID:-//Microsoft Corporation//Outlook 16.0 MIMEDIR//FR
CALSCALE:GREGORIAN
METHOD:PUBLISH
X-WR-TIMEZONE:Europe/Monaco
X-MS-OLK-FORCEINSPECTOROPEN:"TRUE"
BEGIN:VTIMEZONE
TZID:Europe/Monaco
BEGIN:STANDARD
DTSTART:20201025T010000
TZOFFSETTO:+0100
TZOFFSETFROM:+0200
RRULE:FREQ=YEARLY;BYMONTH=11;BYDAY=1SU
END:STANDARD
BEGIN:DAYLIGHT
DTSTART:20200329T010000
TZOFFSETTO:+0200
TZOFFSETFROM:+0100
RRULE:FREQ=YEARLY;BYMONTH=3;BYDAY=2SU
END:DAYLIGHT
END:VTIMEZONE
BEGIN:VEVENT
UID:530-21ab33b8e2db3775d15e4ac9ac45c763-principocket.com\n
DTSTART:20201014T200000
DTEND:20201014T200000
TRANSP:TRANSPARENT
IMAGE;VALUE=URI;DISPLAY=;FMTTYPE=image/png:https://app.monacoplatform.
 com/uploads/N9/N9DK7bSsuO.jpg
STATUS:CONFIRMED
SUMMARY:Serie Grande Stagione
DESCRIPTION:Mercoledì 14 ottobre 2020 alle 20\, Auditorium Rainier II
 I\n\nSerie Grande Stagione: recital di pianoforte per Martin Helmchen 
 con Franck Peter Zimmermann\, violino\, a cura dell'Orchestra Filarmon
 ica di Monte-Carlo. In programma: Ludwig van Beethoven\n\n https://www
 .principocket.com/it/event/21ab33b8e2db3775d15e4ac9ac45c763/serie-gran
 de-stagione
LOCATION:Boulevard Louis II
URL:https://www.principocket.com/event/21ab33b8e2db3775d15e4ac9ac45c763/530
DTSTAMP:20260421T040711Z
CREATED:20201005T102446Z
LAST-MODIFIED:20201005T102446Z
END:VEVENT
END:VCALENDAR
