BEGIN:VCALENDAR
VERSION:2.0
PRODID:-//Microsoft Corporation//Outlook 16.0 MIMEDIR//FR
CALSCALE:GREGORIAN
METHOD:PUBLISH
X-WR-TIMEZONE:Europe/Monaco
X-MS-OLK-FORCEINSPECTOROPEN:"TRUE"
BEGIN:VTIMEZONE
TZID:Europe/Monaco
BEGIN:STANDARD
DTSTART:20201025T010000
TZOFFSETTO:+0100
TZOFFSETFROM:+0200
RRULE:FREQ=YEARLY;BYMONTH=11;BYDAY=1SU
END:STANDARD
BEGIN:DAYLIGHT
DTSTART:20200329T010000
TZOFFSETTO:+0200
TZOFFSETFROM:+0100
RRULE:FREQ=YEARLY;BYMONTH=3;BYDAY=2SU
END:DAYLIGHT
END:VTIMEZONE
BEGIN:VEVENT
UID:528-7e7c68f758fc9d43f5fbe50d7e508169-principocket.com\n
DTSTART:20201007T150000
DTEND:20201007T150000
TRANSP:TRANSPARENT
IMAGE;VALUE=URI;DISPLAY=;FMTTYPE=image/png:https://app.monacoplatform.
 com/uploads/-L/-LPU8Roex3.jpg
STATUS:CONFIRMED
SUMMARY:Concerto Giovane Pubblico
DESCRIPTION:Mercoledì 7 ottobre 2020 alle 15\, Auditorium Rainier III
 \n\nConcerto sinfonico dell'Orchestra Filarmonica di Monte-Carlo che i
 ncontra il Giovane Pubblico\, con David Bismuth\, pianoforte e André 
 Peyrègne\, narratore. In programma: L'Enfance Beethoven\n\n https://w
 ww.principocket.com/it/event/7e7c68f758fc9d43f5fbe50d7e508169/concerto
 -giovane-pubblico
LOCATION:Boulevard Louis II
URL:https://www.principocket.com/event/7e7c68f758fc9d43f5fbe50d7e508169/528
DTSTAMP:20260421T011335Z
CREATED:20201005T102446Z
LAST-MODIFIED:20201005T102446Z
END:VEVENT
END:VCALENDAR
