BEGIN:VCALENDAR
VERSION:2.0
PRODID:-//Microsoft Corporation//Outlook 16.0 MIMEDIR//FR
CALSCALE:GREGORIAN
METHOD:PUBLISH
X-WR-TIMEZONE:Europe/Monaco
X-MS-OLK-FORCEINSPECTOROPEN:"TRUE"
BEGIN:VTIMEZONE
TZID:Europe/Monaco
BEGIN:STANDARD
DTSTART:20201025T010000
TZOFFSETTO:+0100
TZOFFSETFROM:+0200
RRULE:FREQ=YEARLY;BYMONTH=11;BYDAY=1SU
END:STANDARD
BEGIN:DAYLIGHT
DTSTART:20200329T010000
TZOFFSETTO:+0200
TZOFFSETFROM:+0100
RRULE:FREQ=YEARLY;BYMONTH=3;BYDAY=2SU
END:DAYLIGHT
END:VTIMEZONE
BEGIN:VEVENT
UID:525-b243e6ad04b477709794273253deb094-principocket.com\n
DTSTART:20200925T000000
DTEND:20200928T235900
TRANSP:TRANSPARENT
IMAGE;VALUE=URI;DISPLAY=;FMTTYPE=image/png:https://app.monacoplatform.
 com/uploads/zB/zBzpjiO_g2.jpg
STATUS:CONFIRMED
SUMMARY:Serie Grande Stagione
DESCRIPTION:Venerdì 25 e sabato 26 settembre alle 20 e domenica 27 se
 ttembre 2020 alle 18\, Auditorium Rainier III\n\nSerie Grande Stagione
 : concerto dell’Orchestra Filarmonica di Monte-Carlo diretta da Kazu
 ki Yamada con Krystian Zimerman\, pianoforte. In programma: Ludwig van
  Beethoven\n\n https://www.principocket.com/it/event/b243e6ad04b477709
 794273253deb094/serie-grande-stagione
LOCATION:Boulevard Louis II
URL:https://www.principocket.com/event/b243e6ad04b477709794273253deb094/525
DTSTAMP:20260420T201011Z
CREATED:20200918T161540Z
LAST-MODIFIED:20200918T161540Z
X-MICROSOFT-CDO-ALLDAYEVENT:TRUE
END:VEVENT
END:VCALENDAR
