BEGIN:VCALENDAR
VERSION:2.0
PRODID:-//Microsoft Corporation//Outlook 16.0 MIMEDIR//FR
CALSCALE:GREGORIAN
METHOD:PUBLISH
X-WR-TIMEZONE:Europe/Monaco
X-MS-OLK-FORCEINSPECTOROPEN:"TRUE"
BEGIN:VTIMEZONE
TZID:Europe/Monaco
BEGIN:STANDARD
DTSTART:20251026T010000
TZOFFSETTO:+0100
TZOFFSETFROM:+0200
RRULE:FREQ=YEARLY;BYMONTH=11;BYDAY=1SU
END:STANDARD
BEGIN:DAYLIGHT
DTSTART:20250330T010000
TZOFFSETTO:+0200
TZOFFSETFROM:+0100
RRULE:FREQ=YEARLY;BYMONTH=3;BYDAY=2SU
END:DAYLIGHT
END:VTIMEZONE
BEGIN:VEVENT
UID:4807-b336de8ad3f7f8ef6b41ed700492e39a-principocket.com\n
DTSTART:20250123T200000
DTEND:20250123T200000
TRANSP:TRANSPARENT
IMAGE;VALUE=URI;DISPLAY=;FMTTYPE=image/png:https://app.monacoplatform.
 com/uploads/sN/sNqstBysql.jpg
STATUS:CONFIRMED
SUMMARY:Theatre - "L'audience est ouverte"
DESCRIPTION:Thursday 23 January 2025\, at 8 pm\, Théâtre Princesse G
 race\n\nRichard Berry explores four of the most momentous cases of the
  20th century\, through the speeches made by some of history's great l
 awyers:\nMaître Jakubowicz at the trial of Klaus Barbie for crimes ag
 ainst humanity.\nMaître Labori at the trial of Emile Zola and the Dre
 yfus Affair.\nMaître Dupin on the question of euthanasia.\nMaître Mo
 lteni\, in a public speaking competition\, on crimes of solidarity.\n\
 n https://www.principocket.com/it/event/b336de8ad3f7f8ef6b41ed700492e3
 9a/theatre-l-audience-est-ouverte
LOCATION:12\, avenue d'Ostende
URL:https://www.principocket.com/event/b336de8ad3f7f8ef6b41ed700492e39
 a/4807
DTSTAMP:20260420T104951Z
CREATED:20250121T141525Z
LAST-MODIFIED:20250121T141525Z
END:VEVENT
END:VCALENDAR
