BEGIN:VCALENDAR
VERSION:2.0
PRODID:-//Microsoft Corporation//Outlook 16.0 MIMEDIR//FR
CALSCALE:GREGORIAN
METHOD:PUBLISH
X-WR-TIMEZONE:Europe/Monaco
X-MS-OLK-FORCEINSPECTOROPEN:"TRUE"
BEGIN:VTIMEZONE
TZID:Europe/Monaco
BEGIN:STANDARD
DTSTART:20241027T010000
TZOFFSETTO:+0100
TZOFFSETFROM:+0200
RRULE:FREQ=YEARLY;BYMONTH=11;BYDAY=1SU
END:STANDARD
BEGIN:DAYLIGHT
DTSTART:20240331T010000
TZOFFSETTO:+0200
TZOFFSETFROM:+0100
RRULE:FREQ=YEARLY;BYMONTH=3;BYDAY=2SU
END:DAYLIGHT
END:VTIMEZONE
BEGIN:VEVENT
UID:4585-bd5720fcecfc5b5d4fd3a05923b81fd1-principocket.com\n
DTSTART:20241127T203000
DTEND:20241127T203000
TRANSP:TRANSPARENT
IMAGE;VALUE=URI;DISPLAY=;FMTTYPE=image/png:https://app.monacoplatform.
 com/uploads/kX/kX-rEbXAyg.jpg
STATUS:CONFIRMED
SUMMARY:Concert - "Level 42 - Émile Londonien"
DESCRIPTION:Wednesday 27 November 2024\, at 8.30 pm\, Opéra Garnier M
 onte-Carlo\n\nMonte-Carlo Jazz Festival 2024 - Level 42 and Émile Lon
 donien: a double-header of concerts as part of the Monte-Carlo Jazz Fe
 stival.\n\n https://www.principocket.com/it/event/bd5720fcecfc5b5d4fd3
 a05923b81fd1/concert-level-42-emile-londonien
LOCATION:Place du Casino
URL:https://www.principocket.com/event/bd5720fcecfc5b5d4fd3a05923b81fd
 1/4585
DTSTAMP:20260420T213815Z
CREATED:20241122T135051Z
LAST-MODIFIED:20241122T135051Z
END:VEVENT
END:VCALENDAR
