BEGIN:VCALENDAR
VERSION:2.0
PRODID:-//Microsoft Corporation//Outlook 16.0 MIMEDIR//FR
CALSCALE:GREGORIAN
METHOD:PUBLISH
X-WR-TIMEZONE:Europe/Monaco
X-MS-OLK-FORCEINSPECTOROPEN:"TRUE"
BEGIN:VTIMEZONE
TZID:Europe/Monaco
BEGIN:STANDARD
DTSTART:20241027T010000
TZOFFSETTO:+0100
TZOFFSETFROM:+0200
RRULE:FREQ=YEARLY;BYMONTH=11;BYDAY=1SU
END:STANDARD
BEGIN:DAYLIGHT
DTSTART:20240331T010000
TZOFFSETTO:+0200
TZOFFSETFROM:+0100
RRULE:FREQ=YEARLY;BYMONTH=3;BYDAY=2SU
END:DAYLIGHT
END:VTIMEZONE
BEGIN:VEVENT
UID:4584-680d62f02f6a23911b250fe96379965d-principocket.com\n
DTSTART:20241124T180000
DTEND:20241124T180000
TRANSP:TRANSPARENT
IMAGE;VALUE=URI;DISPLAY=;FMTTYPE=image/png:https://app.monacoplatform.
 com/uploads/PU/PUdTKB38MC.jpg
STATUS:CONFIRMED
SUMMARY:Jazz & Cinema - "Elevator to the Gallows"
DESCRIPTION:Sunday 24 November 2024\, at 6 pm\, Opéra Garnier Monte-C
 arlo\n\nMonte-Carlo Jazz Festival 2024 - In partnership with the Audio
 visual Institute of Monaco\, this screening will feature Louis Malle's
  "Elevator to the Gallows" with music by Miles Davis\, on 24 November.
 \n\n https://www.principocket.com/it/event/680d62f02f6a23911b250fe9637
 9965d/jazz-cinema-elevator-to-the-gallows
LOCATION:Place du Casino
URL:https://www.principocket.com/event/680d62f02f6a23911b250fe96379965
 d/4584
DTSTAMP:20260420T171139Z
CREATED:20241122T135050Z
LAST-MODIFIED:20241122T135050Z
END:VEVENT
END:VCALENDAR
