BEGIN:VCALENDAR
VERSION:2.0
PRODID:-//Microsoft Corporation//Outlook 16.0 MIMEDIR//FR
CALSCALE:GREGORIAN
METHOD:PUBLISH
X-WR-TIMEZONE:Europe/Monaco
X-MS-OLK-FORCEINSPECTOROPEN:"TRUE"
BEGIN:VTIMEZONE
TZID:Europe/Monaco
BEGIN:STANDARD
DTSTART:20241027T010000
TZOFFSETTO:+0100
TZOFFSETFROM:+0200
RRULE:FREQ=YEARLY;BYMONTH=11;BYDAY=1SU
END:STANDARD
BEGIN:DAYLIGHT
DTSTART:20240331T010000
TZOFFSETTO:+0200
TZOFFSETFROM:+0100
RRULE:FREQ=YEARLY;BYMONTH=3;BYDAY=2SU
END:DAYLIGHT
END:VTIMEZONE
BEGIN:VEVENT
UID:4582-2a3c5f55a32ca87a2d2f308e7d81fc61-principocket.com\n
DTSTART:20241122T203000
DTEND:20241122T203000
TRANSP:TRANSPARENT
IMAGE;VALUE=URI;DISPLAY=;FMTTYPE=image/png:https://app.monacoplatform.
 com/uploads/86/86dud0amSR.jpg
STATUS:CONFIRMED
SUMMARY:Concert - "Dee Dee Bridgewater - Stefano di Battista"
DESCRIPTION:Friday 22 November 2024\, at 8.30 pm\, Opéra Garnier Mont
 e-Carlo\n\nMonte-Carlo Jazz Festival 2024 - A sensational double-heade
 r of concerts for this 18th festival\, with Dee Dee Bridgewater follow
 ed by Stefano di Battista!\n\n https://www.principocket.com/it/event/2
 a3c5f55a32ca87a2d2f308e7d81fc61/concert-dee-dee-bridgewater-stefano-di
 -battista
LOCATION:Place du Casino
URL:https://www.principocket.com/event/2a3c5f55a32ca87a2d2f308e7d81fc6
 1/4582
DTSTAMP:20260420T105045Z
CREATED:20241122T135049Z
LAST-MODIFIED:20241122T135049Z
END:VEVENT
END:VCALENDAR
