BEGIN:VCALENDAR
VERSION:2.0
PRODID:-//Microsoft Corporation//Outlook 16.0 MIMEDIR//FR
CALSCALE:GREGORIAN
METHOD:PUBLISH
X-WR-TIMEZONE:Europe/Monaco
X-MS-OLK-FORCEINSPECTOROPEN:"TRUE"
BEGIN:VTIMEZONE
TZID:Europe/Monaco
BEGIN:STANDARD
DTSTART:20251026T010000
TZOFFSETTO:+0100
TZOFFSETFROM:+0200
RRULE:FREQ=YEARLY;BYMONTH=11;BYDAY=1SU
END:STANDARD
BEGIN:DAYLIGHT
DTSTART:20250330T010000
TZOFFSETTO:+0200
TZOFFSETFROM:+0100
RRULE:FREQ=YEARLY;BYMONTH=3;BYDAY=2SU
END:DAYLIGHT
END:VTIMEZONE
BEGIN:VEVENT
UID:4557-f83f5dca3175300f94f405e2524e8c97-principocket.com\n
DTSTART:20250202T140000
DTEND:20250202T140000
TRANSP:TRANSPARENT
IMAGE;VALUE=URI;DISPLAY=;FMTTYPE=image/png:https://app.monacoplatform.
 com/uploads/hq/hqFvkxMSp7.png
STATUS:CONFIRMED
SUMMARY:Volley-Ball - 2FB : Journée 13 : ASS SPORTIVE DE MONACO 🆚 
 MANDELIEU LA NAPOULE V.B.
DESCRIPTION:Domenica 2 febbraio 2025 alle 14:00 - Stade des Moneghetti
 \n\n\n\n https://www.principocket.com/it/event/f83f5dca3175300f94f405e
 2524e8c97/volley-ball-2fb-journee-13-ass-sportive-de-monaco-mandelieu-
 la-napoule-v-b
LOCATION:Rue Jean Bouin\, Beausoleil\, France
URL:https://www.principocket.com/event/f83f5dca3175300f94f405e2524e8c9
 7/4557
DTSTAMP:20260422T191745Z
CREATED:20250626T133929Z
LAST-MODIFIED:20250626T133929Z
END:VEVENT
END:VCALENDAR
