BEGIN:VCALENDAR
VERSION:2.0
PRODID:-//Microsoft Corporation//Outlook 16.0 MIMEDIR//FR
CALSCALE:GREGORIAN
METHOD:PUBLISH
X-WR-TIMEZONE:Europe/Monaco
X-MS-OLK-FORCEINSPECTOROPEN:"TRUE"
BEGIN:VTIMEZONE
TZID:Europe/Monaco
BEGIN:STANDARD
DTSTART:20241027T010000
TZOFFSETTO:+0100
TZOFFSETFROM:+0200
RRULE:FREQ=YEARLY;BYMONTH=11;BYDAY=1SU
END:STANDARD
BEGIN:DAYLIGHT
DTSTART:20240331T010000
TZOFFSETTO:+0200
TZOFFSETFROM:+0100
RRULE:FREQ=YEARLY;BYMONTH=3;BYDAY=2SU
END:DAYLIGHT
END:VTIMEZONE
BEGIN:VEVENT
UID:4555-b24330b5131810ac0d989fce2617a27d-principocket.com\n
DTSTART:20241207T180000
DTEND:20241207T180000
TRANSP:TRANSPARENT
IMAGE;VALUE=URI;DISPLAY=;FMTTYPE=image/png:https://app.monacoplatform.
 com/uploads/hq/hqFvkxMSp7.png
STATUS:CONFIRMED
SUMMARY:Volley-Ball - 2FB : Journée 09 : ASS SPORTIVE DE MONACO 🆚 
 CASTRES MASSAGUEL VOLLEY BALL CLUB
DESCRIPTION:Sabato 7 dicembre 2024 alle 18:00 - Stade des Moneghetti\n
 \n\n\n https://www.principocket.com/it/event/b24330b5131810ac0d989fce2
 617a27d/volley-ball-2fb-journee-09-ass-sportive-de-monaco-castres-mass
 aguel-volley-ball-club
LOCATION:Rue Jean Bouin\, Beausoleil\, France
URL:https://www.principocket.com/event/b24330b5131810ac0d989fce2617a27
 d/4555
DTSTAMP:20260422T222512Z
CREATED:20250626T133929Z
LAST-MODIFIED:20250626T133929Z
END:VEVENT
END:VCALENDAR
