BEGIN:VCALENDAR
VERSION:2.0
PRODID:-//Microsoft Corporation//Outlook 16.0 MIMEDIR//FR
CALSCALE:GREGORIAN
METHOD:PUBLISH
X-WR-TIMEZONE:Europe/Monaco
X-MS-OLK-FORCEINSPECTOROPEN:"TRUE"
BEGIN:VTIMEZONE
TZID:Europe/Monaco
BEGIN:STANDARD
DTSTART:20241027T010000
TZOFFSETTO:+0100
TZOFFSETFROM:+0200
RRULE:FREQ=YEARLY;BYMONTH=11;BYDAY=1SU
END:STANDARD
BEGIN:DAYLIGHT
DTSTART:20240331T010000
TZOFFSETTO:+0200
TZOFFSETFROM:+0100
RRULE:FREQ=YEARLY;BYMONTH=3;BYDAY=2SU
END:DAYLIGHT
END:VTIMEZONE
BEGIN:VEVENT
UID:4400-223418f4868703a337f2504716472491-principocket.com\n
DTSTART:20241127T000000
DTEND:20241130T000000
TRANSP:TRANSPARENT
IMAGE;VALUE=URI;DISPLAY=;FMTTYPE=image/png:https://app.monacoplatform.
 com/uploads/Pl/PlewNufI5o.jpg
STATUS:CONFIRMED
SUMMARY:Show - "ELF"
DESCRIPTION:From Wednesday 27 to Friday 29 November 2024\, Grimaldi Fo
 rum Monaco\n\nOne Christmas Eve\, young Buddy Hobbs crawls into Santa 
 Claus's sack. On returning to the North Pole\, Santa opens the sack to
  discover the child\, and decides to raise him as one of his elves. Ye
 ars later\, Buddy embarks on a journey to New York to learn about wher
 e he came from.\n\nWith Santa's help\, he finds his father Walter Hobb
 s and his brother Michael. But neither believes in Santa Claus! Buddy 
 takes matters into his own hands\, and reminds his biological family -
  and the whole of New York City - about the true meaning of Christmas.
 \n\n https://www.principocket.com/it/event/223418f4868703a337f25047164
 72491/show-elf
LOCATION:10\, avenue Princesse Grace
URL:https://www.principocket.com/event/223418f4868703a337f250471647249
 1/4400
DTSTAMP:20260420T134032Z
CREATED:20241122T135051Z
LAST-MODIFIED:20241122T135051Z
X-MICROSOFT-CDO-ALLDAYEVENT:TRUE
END:VEVENT
END:VCALENDAR
