BEGIN:VCALENDAR
VERSION:2.0
PRODID:-//Microsoft Corporation//Outlook 16.0 MIMEDIR//FR
CALSCALE:GREGORIAN
METHOD:PUBLISH
X-WR-TIMEZONE:Europe/Monaco
X-MS-OLK-FORCEINSPECTOROPEN:"TRUE"
BEGIN:VTIMEZONE
TZID:Europe/Monaco
BEGIN:STANDARD
DTSTART:20241027T010000
TZOFFSETTO:+0100
TZOFFSETFROM:+0200
RRULE:FREQ=YEARLY;BYMONTH=11;BYDAY=1SU
END:STANDARD
BEGIN:DAYLIGHT
DTSTART:20240331T010000
TZOFFSETTO:+0200
TZOFFSETFROM:+0100
RRULE:FREQ=YEARLY;BYMONTH=3;BYDAY=2SU
END:DAYLIGHT
END:VTIMEZONE
BEGIN:VEVENT
UID:4153-61cb2461ccfe96ea388fe9f92b1dc7af-principocket.com\n
DTSTART:20241029T183000
DTEND:20241029T183000
TRANSP:TRANSPARENT
IMAGE;VALUE=URI;DISPLAY=;FMTTYPE=image/png:https://app.monacoplatform.
 com/uploads/-v/-vkKnsWnHO.jpg
STATUS:CONFIRMED
SUMMARY:OPMC - "Tribute to Shostakovich"
DESCRIPTION:Tuesday 29 October 2024\, at 6.30 pm\, Auditorium Rainier 
 III\n\nMonte-Carlo Philharmonic Orchestra\, 24/25 Season\, under the P
 residency of H.R.H. the Princess of Hanover - "Tribute to Shostakovich
 "\, MUSICAL HAPPY HOUR with musicians from the OPMC. Music to be perfo
 rmed includes pieces by MENDELSSOHN and SHOSTAKOVICH.\n\n https://www.
 principocket.com/it/event/61cb2461ccfe96ea388fe9f92b1dc7af/opmc-tribut
 e-to-shostakovich
LOCATION:Boulevard Louis II
URL:https://www.principocket.com/event/61cb2461ccfe96ea388fe9f92b1dc7a
 f/4153
DTSTAMP:20260422T185458Z
CREATED:20241029T141635Z
LAST-MODIFIED:20241029T141635Z
END:VEVENT
END:VCALENDAR
