BEGIN:VCALENDAR
VERSION:2.0
PRODID:-//Microsoft Corporation//Outlook 16.0 MIMEDIR//FR
CALSCALE:GREGORIAN
METHOD:PUBLISH
X-WR-TIMEZONE:Europe/Monaco
X-MS-OLK-FORCEINSPECTOROPEN:"TRUE"
BEGIN:VTIMEZONE
TZID:Europe/Monaco
BEGIN:STANDARD
DTSTART:20241027T010000
TZOFFSETTO:+0100
TZOFFSETFROM:+0200
RRULE:FREQ=YEARLY;BYMONTH=11;BYDAY=1SU
END:STANDARD
BEGIN:DAYLIGHT
DTSTART:20240331T010000
TZOFFSETTO:+0200
TZOFFSETFROM:+0100
RRULE:FREQ=YEARLY;BYMONTH=3;BYDAY=2SU
END:DAYLIGHT
END:VTIMEZONE
BEGIN:VEVENT
UID:4011-a53d53e294dc7b3ecf5e2d4ced38e799-principocket.com\n
DTSTART:20241119T190000
DTEND:20241119T190000
TRANSP:TRANSPARENT
IMAGE;VALUE=URI;DISPLAY=;FMTTYPE=image/png:https://app.monacoplatform.
 com/uploads/Tk/TkRaCc7b_v.jpg
STATUS:CONFIRMED
SUMMARY:Opera - "La bohème"
DESCRIPTION:Tuesday 19 November 2024\, at 7 pm\, Grimaldi Forum Monaco
 \n\nOpéra de Monte-Carlo\, 2024/25 season. Opera.\nConductor: Marco A
 rmiliato.\nDirector: Jean-Louis Grinda.\nOpera in four acts.\nMusic by
  Giacomo Puccini (1858-1924).\nLibretto by Giuseppe Giacosa and Luigi 
 Illica\, based on Henry Murger's Scènes de la vie de bohème (1849).\
 nFirst performed: Turin\, Teatro Regio\, 1 February 1896.\nBy invitati
 on of the Palace.\n\n https://www.principocket.com/it/event/a53d53e294
 dc7b3ecf5e2d4ced38e799/opera-la-boheme
LOCATION:10\, avenue Princesse Grace
URL:https://www.principocket.com/event/a53d53e294dc7b3ecf5e2d4ced38e79
 9/4011
DTSTAMP:20260422T091752Z
CREATED:20241112T164310Z
LAST-MODIFIED:20241112T164310Z
END:VEVENT
END:VCALENDAR
