BEGIN:VCALENDAR
VERSION:2.0
PRODID:-//Microsoft Corporation//Outlook 16.0 MIMEDIR//FR
CALSCALE:GREGORIAN
METHOD:PUBLISH
X-WR-TIMEZONE:Europe/Monaco
X-MS-OLK-FORCEINSPECTOROPEN:"TRUE"
BEGIN:VTIMEZONE
TZID:Europe/Monaco
BEGIN:STANDARD
DTSTART:20241027T010000
TZOFFSETTO:+0100
TZOFFSETFROM:+0200
RRULE:FREQ=YEARLY;BYMONTH=11;BYDAY=1SU
END:STANDARD
BEGIN:DAYLIGHT
DTSTART:20240331T010000
TZOFFSETTO:+0200
TZOFFSETFROM:+0100
RRULE:FREQ=YEARLY;BYMONTH=3;BYDAY=2SU
END:DAYLIGHT
END:VTIMEZONE
BEGIN:VEVENT
UID:4010-f5b208f37493688974db00929ed46ba2-principocket.com\n
DTSTART:20241117T170000
DTEND:20241117T170000
TRANSP:TRANSPARENT
IMAGE;VALUE=URI;DISPLAY=;FMTTYPE=image/png:https://app.monacoplatform.
 com/uploads/lT/lTlxHNyVxC.jpg
STATUS:CONFIRMED
SUMMARY:Opera - "Viva Puccini!"
DESCRIPTION:Sunday 17 November 2024\, at 5 pm\, Grimaldi Forum Monaco\
 n\nOpéra de Monte-Carlo\, 2024/25 season. Gala.\nConductor: Marco Arm
 iliato.\nTenor: Jonas Kaufmann.\nPuccini's finest arias…\n\n https:/
 /www.principocket.com/it/event/f5b208f37493688974db00929ed46ba2/opera-
 viva-puccini
LOCATION:10\, avenue Princesse Grace
URL:https://www.principocket.com/event/f5b208f37493688974db00929ed46ba
 2/4010
DTSTAMP:20260420T120849Z
CREATED:20241112T164309Z
LAST-MODIFIED:20241112T164309Z
END:VEVENT
END:VCALENDAR
