BEGIN:VCALENDAR
VERSION:2.0
PRODID:-//Microsoft Corporation//Outlook 16.0 MIMEDIR//FR
CALSCALE:GREGORIAN
METHOD:PUBLISH
X-WR-TIMEZONE:Europe/Monaco
X-MS-OLK-FORCEINSPECTOROPEN:"TRUE"
BEGIN:VTIMEZONE
TZID:Europe/Monaco
BEGIN:STANDARD
DTSTART:20241027T010000
TZOFFSETTO:+0100
TZOFFSETFROM:+0200
RRULE:FREQ=YEARLY;BYMONTH=11;BYDAY=1SU
END:STANDARD
BEGIN:DAYLIGHT
DTSTART:20240331T010000
TZOFFSETTO:+0200
TZOFFSETFROM:+0100
RRULE:FREQ=YEARLY;BYMONTH=3;BYDAY=2SU
END:DAYLIGHT
END:VTIMEZONE
BEGIN:VEVENT
UID:3608-2630b9f9bb07ff8420a3ff8886b2fd82-principocket.com\n
DTSTART:20240320T163000
DTEND:20240320T163000
TRANSP:TRANSPARENT
IMAGE;VALUE=URI;DISPLAY=;FMTTYPE=image/png:https://app.monacoplatform.
 com/uploads/cZ/cZjiaOe8pC.jpg
STATUS:CONFIRMED
SUMMARY:Theatre - "Magie à la ferme"
DESCRIPTION:Wedsnesday 20 March 2024\, at 4.30 pm\, Théâtre des Muse
 s\n\nThe farmer awakes suddenly at 8 o'clock in the morning. He's over
 slept! The rooster didn't crow this morning! Worse still\, he's vanish
 ed! The farmer and the animals must investigate. A show full of laughs
 \, poetry\, songs\, and magic tricks.\n\n https://www.principocket.com
 /it/event/2630b9f9bb07ff8420a3ff8886b2fd82/theatre-magie-a-la-ferme
LOCATION:45\, boulevard du Jardin Exotique
URL:https://www.principocket.com/event/2630b9f9bb07ff8420a3ff8886b2fd8
 2/3608
DTSTAMP:20260420T171135Z
CREATED:20240320T125244Z
LAST-MODIFIED:20240320T125244Z
END:VEVENT
END:VCALENDAR
