BEGIN:VCALENDAR
VERSION:2.0
PRODID:-//Microsoft Corporation//Outlook 16.0 MIMEDIR//FR
CALSCALE:GREGORIAN
METHOD:PUBLISH
X-WR-TIMEZONE:Europe/Monaco
X-MS-OLK-FORCEINSPECTOROPEN:"TRUE"
BEGIN:VTIMEZONE
TZID:Europe/Monaco
BEGIN:STANDARD
DTSTART:20241027T010000
TZOFFSETTO:+0100
TZOFFSETFROM:+0200
RRULE:FREQ=YEARLY;BYMONTH=11;BYDAY=1SU
END:STANDARD
BEGIN:DAYLIGHT
DTSTART:20240331T010000
TZOFFSETTO:+0200
TZOFFSETFROM:+0100
RRULE:FREQ=YEARLY;BYMONTH=3;BYDAY=2SU
END:DAYLIGHT
END:VTIMEZONE
BEGIN:VEVENT
UID:3503-5f2e980fa3aa1ffe38c4e0c12fbe65d8-principocket.com\n
DTSTART:20240207T183000
DTEND:20240207T200000
TRANSP:TRANSPARENT
IMAGE;VALUE=URI;DISPLAY=;FMTTYPE=image/png:https://app.monacoplatform.
 com/uploads/j0/j0RJadIAA4.png
STATUS:CONFIRMED
SUMMARY:Le NMNM présente sa revue "Mirà". Suivi d'une conférence de
  Frédéric Laurent sur l'amitié entre Armand Gatti et Albert Diato
DESCRIPTION:Mercoledì 7 febbraio 2024 dalle 18:30 a 20:00 - Médiath
 èque de Monaco - Bibliothèque Louis Notari\n\nLe Nouveau Musée Nati
 onal de Monaco à travers sa revue Mirà propose un regard sur les act
 ivités du musée et les métiers qui fondent son activité. Un focus 
 proposé par Frédéric Laurent mettra en lumière l'artiste Armand Ga
 tti ainsi que l'amitié qui le liait à Albert Diato.\n\n https://www.
 principocket.com/it/event/5f2e980fa3aa1ffe38c4e0c12fbe65d8/le-nmnm-pre
 sente-sa-revue-mira-suivi-d-une-conference-de-frederic-laurent-sur-l-a
 mitie-entre-armand-gatti-et-albert-diato
LOCATION:5 Promenade Honoré II\, Monaco
URL:https://www.principocket.com/event/5f2e980fa3aa1ffe38c4e0c12fbe65d
 8/3503
DTSTAMP:20260425T125621Z
CREATED:20240201T103807Z
LAST-MODIFIED:20240201T103807Z
END:VEVENT
END:VCALENDAR
