BEGIN:VCALENDAR
VERSION:2.0
PRODID:-//Microsoft Corporation//Outlook 16.0 MIMEDIR//FR
CALSCALE:GREGORIAN
METHOD:PUBLISH
X-WR-TIMEZONE:Europe/Monaco
X-MS-OLK-FORCEINSPECTOROPEN:"TRUE"
BEGIN:VTIMEZONE
TZID:Europe/Monaco
BEGIN:STANDARD
DTSTART:20241027T010000
TZOFFSETTO:+0100
TZOFFSETFROM:+0200
RRULE:FREQ=YEARLY;BYMONTH=11;BYDAY=1SU
END:STANDARD
BEGIN:DAYLIGHT
DTSTART:20240331T010000
TZOFFSETTO:+0200
TZOFFSETFROM:+0100
RRULE:FREQ=YEARLY;BYMONTH=3;BYDAY=2SU
END:DAYLIGHT
END:VTIMEZONE
BEGIN:VEVENT
UID:3497-03bdb13491bb5a090d9100df865d1461-principocket.com\n
DTSTART:20240627T200000
DTEND:20240627T200000
TRANSP:TRANSPARENT
IMAGE;VALUE=URI;DISPLAY=;FMTTYPE=image/png:https://app.monacoplatform.
 com/uploads/Qp/Qp0tUFZq57.jpg
STATUS:CONFIRMED
SUMMARY:Concert - "Khatia Buniatishvili"
DESCRIPTION:Thursday 27 June 2024\, at 8 pm\, Grimaldi Forum Monaco\n\
 nRenowned for her uniquely captivating performances and outstanding te
 chnique\, Khatia Buniatishvili's talent transcends musical borders and
  regularly delights audiences all over the world. For this recital at 
 the Grimaldi Forum\, she will perform works by Bach\, Beethoven\, Moza
 rt\, Schubert\, and Liszt. Expect an unforgettable evening in the comp
 any of a truly exceptional artist.\n\n https://www.principocket.com/it
 /event/03bdb13491bb5a090d9100df865d1461/concert-khatia-buniatishvili
LOCATION:10\, avenue Princesse Grace
URL:https://www.principocket.com/event/03bdb13491bb5a090d9100df865d146
 1/3497
DTSTAMP:20260421T013235Z
CREATED:20240626T132639Z
LAST-MODIFIED:20240626T132639Z
END:VEVENT
END:VCALENDAR
