BEGIN:VCALENDAR
VERSION:2.0
PRODID:-//Microsoft Corporation//Outlook 16.0 MIMEDIR//FR
CALSCALE:GREGORIAN
METHOD:PUBLISH
X-WR-TIMEZONE:Europe/Monaco
X-MS-OLK-FORCEINSPECTOROPEN:"TRUE"
BEGIN:VTIMEZONE
TZID:Europe/Monaco
BEGIN:STANDARD
DTSTART:20241027T010000
TZOFFSETTO:+0100
TZOFFSETFROM:+0200
RRULE:FREQ=YEARLY;BYMONTH=11;BYDAY=1SU
END:STANDARD
BEGIN:DAYLIGHT
DTSTART:20240331T010000
TZOFFSETTO:+0200
TZOFFSETFROM:+0100
RRULE:FREQ=YEARLY;BYMONTH=3;BYDAY=2SU
END:DAYLIGHT
END:VTIMEZONE
BEGIN:VEVENT
UID:3495-2b83349e238e0637c00d7c165c22a6d4-principocket.com\n
DTSTART:20240522T203000
DTEND:20240522T203000
TRANSP:TRANSPARENT
IMAGE;VALUE=URI;DISPLAY=;FMTTYPE=image/png:https://app.monacoplatform.
 com/uploads/MP/MPPeE47M58.jpg
STATUS:CONFIRMED
SUMMARY:Concert - "Louane"
DESCRIPTION:Wednesday 22 May 2024\, at 8.30 pm\, Grimaldi Forum Monaco
 \n\nIn the wake of two diamond-certified albums and a platinum-selling
  third\, "Joie de vivre"\, Louane is back with a sensitively produced 
 concept album. A moving communion with her fans through the artist's s
 ocial media accounts\, with performances drawing on her personal stori
 es as well as those inspired by her community. With music and lyrics w
 ritten by the young artist herself\, this fourth opus is an ode to "Se
 ntiments". A collection of 10 original\, unadorned tracks\, a raw\, em
 otional gem.\n\n https://www.principocket.com/it/event/2b83349e238e063
 7c00d7c165c22a6d4/concert-louane
LOCATION:10\, avenue Princesse Grace
URL:https://www.principocket.com/event/2b83349e238e0637c00d7c165c22a6d
 4/3495
DTSTAMP:20260420T234315Z
CREATED:20240521T144554Z
LAST-MODIFIED:20240521T144554Z
END:VEVENT
END:VCALENDAR
